BEGIN:VCALENDAR
VERSION:2.0
PRODID:-//ChamberMaster//Event Calendar 2.0//EN
METHOD:PUBLISH
X-PUBLISHED-TTL:P3D
REFRESH-INTERVAL:P3D
CALSCALE:GREGORIAN
BEGIN:VEVENT
DTSTART:20160724T220000Z
DTEND:20160725T000000Z
X-MICROSOFT-CDO-ALLDAYEVENT:FALSE
SUMMARY:Festival Mozaic CHAMBER Series: Festival Finale
DESCRIPTION:The 2016 Summer Festival wraps up with a chamber music concert featuring some of Music Director Scott Yoo's favorite pieces. Celebrate the end of another fantastic summer with an intimate afternoon of chamber music with the Festival artists. ? FRANZ LISZT -La lugubre gondola No. 2\, S. 200 John Novacek\, piano ? GUSTAV MAHLER - Songs of a Wayfarer (Transcribed for English horn) Robert Walters\, English horn\; Noam Elkies\, piano ? CARL NIELSEN - Wind Quintet\, op. 43 Alice Dade\, flute\; Elizabeth Koch Tiscione\, oboe\; Michael Fine\, clarinet\; Fei Xie\, bassoon\; Jeff Garza\, horn ? DMITRI SHOSTAKOVICH -String Quartet No. 7 in F# minor\, op. 108 Steven Copes\, Brandon Garbot\, violin\; Caitlin Lynch\, viola\; Ray Kim\, cello ? JOHANNES BRAHMS - Piano Quartet in C minor\, op. 60 John Novacek\, piano\; Scott Yoo\, violin\; Maurycy Banaszek\, viola\; Jonah Kim\, cello
X-ALT-DESC;FMTTYPE=text/html:The 2016 Summer Festival wraps up with a chamber music concert featuring some of Music Director Scott Yoo&#39\;s favorite pieces. Celebrate the end of another fantastic summer with an intimate afternoon of chamber music with the Festival artists. ? FRANZ LISZT -La lugubre gondola No. 2\, S. 200 John Novacek\, piano ? GUSTAV MAHLER - Songs of a Wayfarer (Transcribed for English horn) Robert Walters\, English horn\; Noam Elkies\, piano ? CARL NIELSEN - Wind Quintet\, op. 43 Alice Dade\, flute\; Elizabeth Koch Tiscione\, oboe\; Michael Fine\, clarinet\; Fei Xie\, bassoon\; Jeff Garza\, horn ? DMITRI SHOSTAKOVICH -String Quartet No. 7 in F# minor\, op. 108 Steven Copes\, Brandon Garbot\, violin\; Caitlin Lynch\, viola\; Ray Kim\, cello ? JOHANNES BRAHMS - Piano Quartet in C minor\, op. 60 John Novacek\, piano\; Scott Yoo\, violin\; Maurycy Banaszek\, viola\; Jonah Kim\, cello
LOCATION:Cuesta College Cultural and Performing Arts Center Highway 1 at Hollister Road San Luis Obispo\, CA 93403
UID:e.2488.4722
SEQUENCE:3
DTSTAMP:20260424T133645Z
URL:https://business.pasorobleschamber.com/events/details/festival-mozaic-chamber-series-festival-finale-07-24-2016-4722
END:VEVENT

END:VCALENDAR
