BEGIN:VCALENDAR
VERSION:2.0
PRODID:-//ChamberMaster//Event Calendar 2.0//EN
METHOD:PUBLISH
X-PUBLISHED-TTL:P3D
REFRESH-INTERVAL:P3D
CALSCALE:GREGORIAN
BEGIN:VEVENT
DTSTART:20160716T023000Z
DTEND:20160716T043000Z
X-MICROSOFT-CDO-ALLDAYEVENT:FALSE
SUMMARY:Festival Mozaic CHAMBER Series: Legacy of Genius
DESCRIPTION:This program explores innovation in chamber music\, from Mozart's final viola quintet to Schoenberg's Verkl rte Nacht\, a sextet which marries musical metaphor to its namesake poem\, "Transfigured Night". Also featured are Britten's charming "Phantasy" Quartet showcases oboe inside of a string quartet and Mahler's Piano Quartet\, written when the composer was just 16\, is Mahler's only surviving work of instrumental chamber music and established him as a force for music in the late 19th century. ? MAHLER - Piano Quartet in A minor John Novacek\, Scott Yoo\, Paul Severtson\, Ray Kim ? BRITTEN - Phantasy Quartet Anne Marie Gabriele\, Erik Arvinder\, Jessica Oudin\, Michelle Djokic ? MOZART - Viola Quintet in E-flat major\, K. 614 Grace Park\, Serena McKinney\, Ben Ullery\, Luke Fleming\, Madeleine Kabat ? SCHOENBERG - Verkl rte Nacht Sandy Yamamoto\, Jason Uyeyama\, Maurycy Banaszek\, Shuangshuang Liu\, Jonah Kim\, Andrea Casarrubios
X-ALT-DESC;FMTTYPE=text/html:This program explores innovation in chamber music\, from Mozart&#39\;s final viola quintet to Schoenberg&#39\;s Verkl&auml\;rte Nacht\, a sextet which marries musical metaphor to its namesake poem\, &quot\;Transfigured Night&quot\;. Also featured are Britten&#39\;s charming &quot\;Phantasy&quot\; Quartet showcases oboe inside of a string quartet and Mahler&#39\;s Piano Quartet\, written when the composer was just 16\, is Mahler&#39\;s only surviving work of instrumental chamber music and established him as a force for music in the late 19th century. ? MAHLER - Piano Quartet in A minor John Novacek\, Scott Yoo\, Paul Severtson\, Ray Kim ? BRITTEN - Phantasy Quartet Anne Marie Gabriele\, Erik Arvinder\, Jessica Oudin\, Michelle Djokic ? MOZART - Viola Quintet in E-flat major\, K. 614 Grace Park\, Serena McKinney\, Ben Ullery\, Luke Fleming\, Madeleine Kabat ? SCHOENBERG - Verkl&auml\;rte Nacht Sandy Yamamoto\, Jason Uyeyama\, Maurycy Banaszek\, Shuangshuang Liu\, Jonah Kim\, Andrea Casarrubios
LOCATION:Cuesta College Cultural and Performing Arts Center Highway 1 at Hollister Road San Luis Obispo\, CA 93403
UID:e.2488.4699
SEQUENCE:3
DTSTAMP:20260424T160442Z
URL:https://business.pasorobleschamber.com/events/details/festival-mozaic-chamber-series-legacy-of-genius-07-15-2016-4699
END:VEVENT

END:VCALENDAR
