BEGIN:VCALENDAR
VERSION:2.0
PRODID:-//ChamberMaster//Event Calendar 2.0//EN
METHOD:PUBLISH
X-PUBLISHED-TTL:P3D
REFRESH-INTERVAL:P3D
CALSCALE:GREGORIAN
BEGIN:VEVENT
DTSTART:20170730T220000Z
DTEND:20170731T000000Z
X-MICROSOFT-CDO-ALLDAYEVENT:FALSE
SUMMARY:Festival Mozaic Chamber Series: Scott Yoo and Friends
DESCRIPTION:Benjamin Britten: Six Metamorphoses after Ovid\, op. 49\n\nMaurice Ravel: Sonatine en Trio for flute\, viola\, and harp\n\nRalph Vaughan Williams: Piano Quintet in C minor\n\nAntonin Dvor k: Viola Quintet in E-flat major\, op. 97\n\n \n\nThe 2017 season of Festival Mozaic comes to a close with an afternoon of evocative music. Britten's Six Metamorphoses for solo oboe evokes mythical creatures from Ovid's classic poem. Vaughan Williams' sonorous Piano Quintet is little-known to today's audiences as it was embargoed from performances by the composer's family until the 1990s. Closing the program is Dvor k's Viola Quintet\, which he composed after a transformative visit to Iowa during which he was inspired by Native and African American musical traditions.\n\n \n\nSponsored by Sharon Harris and Dennis Schneider.
X-ALT-DESC;FMTTYPE=text/html:Benjamin Britten: Six Metamorphoses after Ovid\, op. 49<br />\nMaurice Ravel: Sonatine en Trio for flute\, viola\, and harp<br />\nRalph Vaughan Williams: Piano Quintet in C minor<br />\nAntonin Dvor&aacute\;k: Viola Quintet in E-flat major\, op. 97<br />\n&nbsp\;<br />\nThe 2017 season of Festival Mozaic comes to a close with an afternoon of evocative music. Britten&rsquo\;s Six Metamorphoses for solo oboe evokes mythical creatures from Ovid&rsquo\;s classic poem. Vaughan Williams&rsquo\; sonorous Piano Quintet is little-known to today&#39\;s audiences as it was embargoed from performances by the composer&#39\;s family until the 1990s. Closing the program is Dvor&aacute\;k&rsquo\;s Viola Quintet\, which he composed after a transformative visit to Iowa during which he was inspired by Native and African American musical traditions.<br />\n&nbsp\;<br />\n<em>Sponsored by Sharon Harris and Dennis Schneider.</em>
LOCATION:Cuesta College Cultural and Performing Arts Center Highway 1 San Luis Obispo\, CA 93405
UID:e.2488.6500
SEQUENCE:3
DTSTAMP:20260423T135047Z
URL:https://business.pasorobleschamber.com/events/details/festival-mozaic-chamber-series-scott-yoo-and-friends-6500
END:VEVENT

END:VCALENDAR
