BEGIN:VCALENDAR
VERSION:2.0
PRODID:-//ChamberMaster//Event Calendar 2.0//EN
METHOD:PUBLISH
X-PUBLISHED-TTL:P3D
REFRESH-INTERVAL:P3D
CALSCALE:GREGORIAN
BEGIN:VEVENT
DTSTART:20160719T023000Z
DTEND:20160719T043000Z
X-MICROSOFT-CDO-ALLDAYEVENT:FALSE
SUMMARY:Festival Mozaic CHAMBER Series: The Viennese Connection
DESCRIPTION:Vienna was the birthplace of classical music and training ground for each of the composers in this program. Beethoven hails from the "First Viennese School"\, whose membership also boasts Mozart and Haydn. Wolf\, a classmate of Mahler's was a master of German Lieder and carried that lyrical tradition into his Italian Serenade. And while Korngold's legacy is primarily as a film composer\, his Sextet is considered to be the greatest since the sextets of Brahms. ? HUGO WOLF - Italian Serenade Serena McKinney\, Jisun Yang\, violins\; Jessica Oudin\, viola\; Madeleine Kabat\, cello ? ERICH WOLFGANG KORNGOLD - Sextet\, op. 10 Sandy Yamamoto\, Melody Chang\, violins\; Shuangshuang Liu\, Luke Fleming\, violas\; Andrea Casarrubios\, Jonah Kim\, cellos ? LUDWIG VAN BEETHOVEN - String Quartet in A minor\, op. 132 Emily Daggett Smith\, Nina Tso-Ning Fan\, violins\; Maurycy Banaszek\, viola\; Michelle Djokic\, cello
X-ALT-DESC;FMTTYPE=text/html:Vienna was the birthplace of classical music and training ground for each of the composers in this program. Beethoven hails from the &quot\;First Viennese School&quot\;\, whose membership also boasts Mozart and Haydn. Wolf\, a classmate of Mahler&#39\;s was a master of German Lieder and carried that lyrical tradition into his Italian Serenade. And while Korngold&#39\;s legacy is primarily as a film composer\, his Sextet is considered to be the greatest since the sextets of Brahms. ? HUGO WOLF - Italian Serenade Serena McKinney\, Jisun Yang\, violins\; Jessica Oudin\, viola\; Madeleine Kabat\, cello ? ERICH WOLFGANG KORNGOLD - Sextet\, op. 10 Sandy Yamamoto\, Melody Chang\, violins\; Shuangshuang Liu\, Luke Fleming\, violas\; Andrea Casarrubios\, Jonah Kim\, cellos ? LUDWIG VAN BEETHOVEN - String Quartet in A minor\, op. 132 Emily Daggett Smith\, Nina Tso-Ning Fan\, violins\; Maurycy Banaszek\, viola\; Michelle Djokic\, cello
LOCATION:Congregation Beth David 10180 Los Osos Valley Road San Luis Obispo\, CA 93405
UID:e.2488.4706
SEQUENCE:3
DTSTAMP:20260424T155616Z
URL:https://business.pasorobleschamber.com/events/details/festival-mozaic-chamber-series-the-viennese-connection-07-18-2016-4706
END:VEVENT

END:VCALENDAR
