BEGIN:VCALENDAR
VERSION:2.0
PRODID:-//ChamberMaster//Event Calendar 2.0//EN
METHOD:PUBLISH
X-PUBLISHED-TTL:P3D
REFRESH-INTERVAL:P3D
CALSCALE:GREGORIAN
BEGIN:VEVENT
DTSTART:20170721T023000Z
DTEND:20170721T043000Z
X-MICROSOFT-CDO-ALLDAYEVENT:FALSE
SUMMARY:Festival Mozaic Chamber Series: Triumph Over Adversity
DESCRIPTION:Charles Ives: String Quartet No. 1\, op. 57\, "A Revival Service"\n\nOliver Messiaen: Quartet for the End of Time\n\nFelix Mendelssohn: Piano Trio No. 2 in C minor\, op. 66\n\n \n\nThese three chamber works set the stage for this season's theme of transformation. Ives' "Revival Service" quartet was written at the turn of the 20th century and includes musical "quotes" from a dozen Protestant hymns. Mendelssohn's use of a Lutheran chorale in the finale of his second piano trio alludes to his "Reformation" symphony and ushers in a triumphant switch from minor to major. Finally\, Messiaen composed and performed his masterpiece quartet while imprisoned in a German POW camp during World War II.\n\n \n\nSponsored by Diane and Marty Moroski.
X-ALT-DESC;FMTTYPE=text/html:Charles Ives: String Quartet No. 1\, op. 57\, &quot\;A Revival Service&quot\;<br />\nOliver Messiaen: Quartet for the End of Time<br />\nFelix Mendelssohn: Piano Trio No. 2 in C minor\, op. 66<br />\n&nbsp\;<br />\nThese three chamber works set the stage for this season&rsquo\;s theme of transformation. Ives&rsquo\; &ldquo\;Revival Service&rdquo\; quartet was written at the turn of the 20th century and includes musical &ldquo\;quotes&rdquo\; from a dozen Protestant hymns. Mendelssohn&rsquo\;s use of a Lutheran chorale in the finale of his second piano trio alludes to his &ldquo\;Reformation&rdquo\; symphony and ushers in a triumphant switch from minor to major. Finally\, Messiaen composed and performed his masterpiece quartet while imprisoned in a German POW camp during World War II.<br />\n&nbsp\;<br />\n<em>Sponsored by Diane and Marty Moroski.</em>
LOCATION:Congregation Beth David 10180 Los Osos Valley Road San Luis Obispo\, CA 93405
UID:e.2488.6475
SEQUENCE:3
DTSTAMP:20260423T112525Z
URL:https://business.pasorobleschamber.com/events/details/festival-mozaic-chamber-series-triumph-over-adversity-6475
END:VEVENT

END:VCALENDAR
