BEGIN:VCALENDAR
VERSION:2.0
PRODID:-//ChamberMaster//Event Calendar 2.0//EN
METHOD:PUBLISH
X-PUBLISHED-TTL:P3D
REFRESH-INTERVAL:P3D
CALSCALE:GREGORIAN
BEGIN:VEVENT
DTSTART:20170728T023000Z
DTEND:20170728T043000Z
X-MICROSOFT-CDO-ALLDAYEVENT:FALSE
SUMMARY:Festival Mozaic Chamber Series: Winds of Change
DESCRIPTION:Georg Philip Telemann: Tafelmusik: Trio in E minor for flute\, oboe and basso continuo\n\nW. A. Mozart: Horn Quintet in E-flat major\, K. 407\n\nJohannes Brahms: Clarinet Quintet\, op. 115\n\nJohn Harbison: Quintet for Winds\n\n \n\nThis program explores the evolution of chamber music for wind instruments. We begin with a selection from Telemann's Tafelmusik\, a collection of chamber works for varying ensembles that was the composer's most ambitious publication during his lifetime. The horn takes a leading role in Mozart's delightful Horn Quintet\, and the clarinet follows suit in Brahms' Clarinet Quintet. For a contemporary perspective\, the program finishes with John Harbison's 1979 Quintet for Winds.\n\n \n\nSponsored by Mary L. Bianco and the MOCA Foundation.
X-ALT-DESC;FMTTYPE=text/html:Georg Philip Telemann: Tafelmusik: Trio in E minor for flute\, oboe and basso continuo<br />\nW. A. Mozart: Horn Quintet in E-flat major\, K. 407<br />\nJohannes Brahms: Clarinet Quintet\, op. 115<br />\nJohn Harbison: Quintet for Winds<br />\n&nbsp\;<br />\nThis program explores the evolution of chamber music for wind instruments. We begin with a selection from Telemann&rsquo\;s Tafelmusik\, a collection of chamber works for varying ensembles that was the composer&rsquo\;s most ambitious publication during his lifetime. The horn takes a leading role in Mozart&#39\;s delightful Horn Quintet\, and the clarinet follows suit in Brahms&#39\; Clarinet Quintet. For a contemporary perspective\, the program finishes with John Harbison&#39\;s 1979 Quintet for Winds.<br />\n&nbsp\;<br />\n<em>Sponsored by Mary L. Bianco and the MOCA Foundation.</em>
LOCATION:Congregation Beth David 10180 Los Osos Valley Road San Luis Obispo\, CA 93405
UID:e.2488.6492
SEQUENCE:3
DTSTAMP:20260423T133024Z
URL:https://business.pasorobleschamber.com/events/details/festival-mozaic-chamber-series-winds-of-change-6492
END:VEVENT

END:VCALENDAR
