BEGIN:VCALENDAR
VERSION:2.0
PRODID:-//ChamberMaster//Event Calendar 2.0//EN
METHOD:PUBLISH
X-PUBLISHED-TTL:P3D
REFRESH-INTERVAL:P3D
CALSCALE:GREGORIAN
BEGIN:VEVENT
DTSTART:20160723T023000Z
DTEND:20160723T043000Z
X-MICROSOFT-CDO-ALLDAYEVENT:FALSE
SUMMARY:Festival Mozaic FRINGE Series: Duo Baldo
DESCRIPTION:Back by popular demand! The musical comedy team Duo Baldo is renowned violinist Brad Repp and pianist/actor Aldo Gentileschi. Their critically acclaimed performances combine virtuosic musicianship\, theatrical humor\, and pop culture. Table seating includes a glass of wine from Kiamie Wine Cellars and a tasting sampler of tapas.
X-ALT-DESC;FMTTYPE=text/html:Back by popular demand! The musical comedy team Duo Baldo is renowned violinist Brad Repp and pianist/actor Aldo Gentileschi. Their critically acclaimed performances combine virtuosic musicianship\, theatrical humor\, and pop culture. Table seating includes a glass of wine from Kiamie Wine Cellars and a tasting sampler of tapas.
LOCATION:Pavilion on the Lake 9315 Pismo Ave. Atascadero\, CA 93422
UID:e.2488.4718
SEQUENCE:3
DTSTAMP:20260424T155545Z
URL:https://business.pasorobleschamber.com/events/details/festival-mozaic-fringe-series-duo-baldo-07-22-2016-4718
END:VEVENT

END:VCALENDAR
