BEGIN:VCALENDAR
VERSION:2.0
PRODID:-//ChamberMaster//Event Calendar 2.0//EN
METHOD:PUBLISH
X-PUBLISHED-TTL:P3D
REFRESH-INTERVAL:P3D
CALSCALE:GREGORIAN
BEGIN:VEVENT
DTSTART:20170723T210000Z
DTEND:20170723T230000Z
X-MICROSOFT-CDO-ALLDAYEVENT:FALSE
SUMMARY:Festival Mozaic Fringe Series: Fire & Grace
DESCRIPTION:Virtuoso violin meets Celtic guitar with this eclectic duo. Fire and Grace connects elements of classical\, folk and contemporary musical traditions from around the world. Canadian-born violinist Edwin Huizinga and Grammy award winning guitarist William Coulter team up for an afternoon of musical delights where you can expect to see masterpieces of Bach followed up by Irish folk songs\, all performed with humor and elegance.\n\n \n\nSponsored by Chevron.
X-ALT-DESC;FMTTYPE=text/html:Virtuoso violin meets Celtic guitar with this eclectic duo. Fire and Grace connects elements of classical\, folk and contemporary musical traditions from around the world. Canadian-born violinist Edwin Huizinga and Grammy award winning guitarist William Coulter team up for an afternoon of musical delights where you can expect to see masterpieces of Bach followed up by Irish folk songs\, all performed with humor and elegance.<br />\n&nbsp\;<br />\n<em>Sponsored by Chevron.</em>
LOCATION:See Canyon Fruit Ranch 2345 See Canyon Road Avila Beach\, CA 93405
UID:e.2488.6480
SEQUENCE:3
DTSTAMP:20260423T112342Z
URL:https://business.pasorobleschamber.com/events/details/festival-mozaic-fringe-series-fire-grace-6480
END:VEVENT

END:VCALENDAR
