BEGIN:VCALENDAR
VERSION:2.0
PRODID:-//ChamberMaster//Event Calendar 2.0//EN
METHOD:PUBLISH
X-PUBLISHED-TTL:P3D
REFRESH-INTERVAL:P3D
CALSCALE:GREGORIAN
BEGIN:VEVENT
DTSTART:20160715T023000Z
DTEND:20160715T043000Z
X-MICROSOFT-CDO-ALLDAYEVENT:FALSE
SUMMARY:Festival Mozaic FRINGE Series: Intersection
DESCRIPTION:It's Classical Musicians Doing Un-Classical Things! Join Festival favorites pianist John Novacek and cellist Kristina Reiko Cooper\, along with violinist Laura Frautschi for soulful expression\, instrumental virtuosity and playful banter. This program features an irresistible blend of classical\, jazz\, Latin\, Broadway/film music\, vital new commissions\, and the group's own original compositions and arrangements\, ranging from tango to bossa nova\, to Mendelssohn and beyond.
X-ALT-DESC;FMTTYPE=text/html:It&#39\;s Classical Musicians Doing Un-Classical Things! Join Festival favorites pianist John Novacek and cellist Kristina Reiko Cooper\, along with violinist Laura Frautschi for soulful expression\, instrumental virtuosity and playful banter. This program features an irresistible blend of classical\, jazz\, Latin\, Broadway/film music\, vital new commissions\, and the group&#39\;s own original compositions and arrangements\, ranging from tango to bossa nova\, to Mendelssohn and beyond.
LOCATION:Cuesta College Cultural and Performing Arts Center Highway 1 at Hollister Road San Luis Obispo\, CA 93403
UID:e.2488.4697
SEQUENCE:3
DTSTAMP:20260424T133027Z
URL:https://business.pasorobleschamber.com/events/details/festival-mozaic-fringe-series-intersection-07-14-2016-4697
END:VEVENT

END:VCALENDAR
