BEGIN:VCALENDAR
VERSION:2.0
PRODID:-//ChamberMaster//Event Calendar 2.0//EN
METHOD:PUBLISH
X-PUBLISHED-TTL:P3D
REFRESH-INTERVAL:P3D
CALSCALE:GREGORIAN
BEGIN:VEVENT
DTSTART:20160717T220000Z
DTEND:20160718T000000Z
X-MICROSOFT-CDO-ALLDAYEVENT:FALSE
SUMMARY:Festival Mozaic FRINGE Series: PROJECT Trio
DESCRIPTION:PROJECT Trio is a passionate\, high energy chamber flute\, cello and bass music ensemble comprised of three virtuosic composer/performers from Brooklyn\, NY. Flutist Greg Patillo is recognized throughout the world for his redefinition of the flute sound. His groundbreaking "beatbox flute" performance videos on You Tube have been viewed more than 20 million times. Gates to this outdoor venue open one hour before showtime. Chairs are NOT provided with lawn seating. Picnics are welcome. Please be prepared for sunny conditions. Beer and wine available for purchase.
X-ALT-DESC;FMTTYPE=text/html:PROJECT Trio is a passionate\, high energy chamber flute\, cello and bass music ensemble comprised of three virtuosic composer/performers from Brooklyn\, NY. Flutist Greg Patillo is recognized throughout the world for his redefinition of the flute sound. His groundbreaking &quot\;beatbox flute&quot\; performance videos on You Tube have been viewed more than 20 million times. Gates to this outdoor venue open one hour before showtime. Chairs are NOT provided with lawn seating. Picnics are welcome. Please be prepared for sunny conditions. Beer and wine available for purchase.
LOCATION:See Canyon Fruit Ranch 2345 See Canyon Road Avila Beach\, CA 93405
UID:e.2488.4703
SEQUENCE:3
DTSTAMP:20260424T155448Z
URL:https://business.pasorobleschamber.com/events/details/festival-mozaic-fringe-series-project-trio-07-17-2016-4703
END:VEVENT

END:VCALENDAR
