BEGIN:VCALENDAR
VERSION:2.0
PRODID:-//ChamberMaster//Event Calendar 2.0//EN
METHOD:PUBLISH
X-PUBLISHED-TTL:P3D
REFRESH-INTERVAL:P3D
CALSCALE:GREGORIAN
BEGIN:VEVENT
DTSTART:20170722T023000Z
DTEND:20170722T043000Z
X-MICROSOFT-CDO-ALLDAYEVENT:FALSE
SUMMARY:Festival Mozaic Fringe Series: Simply Three
DESCRIPTION:Old school training meets a new school sound! The electrifying trio of Glen McDaniel\, Nick Villalobos and Zack Clark has been captivating audiences worldwide with high-octane performances since 2010. Their performances defy convention and embody classical crossover with original works as well as innovative arrangements of a multitude of genres from Puccini and Gershwin to Adele\, Coldplay and Michael Jackson.
X-ALT-DESC;FMTTYPE=text/html:Old school training meets a new school sound! The electrifying trio of Glen McDaniel\, Nick Villalobos and Zack Clark has been captivating audiences worldwide with high-octane performances since 2010. Their performances defy convention and embody classical crossover with original works as well as innovative arrangements of a multitude of genres from Puccini and Gershwin to Adele\, Coldplay and Michael Jackson.
LOCATION:Clark Center for the Performing Arts 487 Fair Oaks Avenue Arroyo Grande\, CA 93420
UID:e.2488.6477
SEQUENCE:3
DTSTAMP:20260423T111754Z
URL:https://business.pasorobleschamber.com/events/details/festival-mozaic-fringe-series-simply-three-6477
END:VEVENT

END:VCALENDAR
