BEGIN:VCALENDAR
VERSION:2.0
PRODID:-//ChamberMaster//Event Calendar 2.0//EN
METHOD:PUBLISH
X-PUBLISHED-TTL:P3D
REFRESH-INTERVAL:P3D
CALSCALE:GREGORIAN
BEGIN:VEVENT
DTSTART:20170729T023000Z
DTEND:20170729T043000Z
X-MICROSOFT-CDO-ALLDAYEVENT:FALSE
SUMMARY:Festival Mozaic Fringe Series: The Jazz Age
DESCRIPTION:Composer and pianist Stephen Prutsman leads a rollicking evening of jazz music and silent films from the jazz age at the historic Fremont Theater in downtown San Luis Obispo. Prutsman will be joined by Steven Copes on violin. Then three silent films will be shown on the gigantic silver screen: The Cameraman's Revenge (1910)\, Suspense (1913) and Mighty Like a Moose (1926)\, with world premiere musical scores written by Stephen Prutsman and co-commissioned with Spoleto Festival USA and the Schubert Club.\n\n                                                                                                                                                     \n\nSponsored by Libbie Agran & Guy Fitzwater and Union Bank.
X-ALT-DESC;FMTTYPE=text/html:Composer and pianist Stephen Prutsman leads a rollicking evening of jazz music and silent films from the jazz age at the historic Fremont Theater in downtown San Luis Obispo. Prutsman will be joined by Steven Copes on violin. Then three silent films will be shown on the gigantic silver screen: The Cameraman&#39\;s Revenge (1910)\, Suspense (1913) and Mighty Like a Moose (1926)\, with world premiere musical scores written by Stephen Prutsman and co-commissioned with Spoleto Festival USA and the Schubert Club.<br />\n&nbsp\;&nbsp\;&nbsp\;&nbsp\;&nbsp\;&nbsp\;&nbsp\;&nbsp\;&nbsp\;&nbsp\;&nbsp\;&nbsp\;&nbsp\;&nbsp\;&nbsp\;&nbsp\;&nbsp\;&nbsp\;&nbsp\;&nbsp\;&nbsp\;&nbsp\;&nbsp\;&nbsp\;&nbsp\;&nbsp\;&nbsp\;&nbsp\;&nbsp\;&nbsp\;&nbsp\;&nbsp\;&nbsp\;&nbsp\;&nbsp\;&nbsp\;&nbsp\;&nbsp\;&nbsp\;&nbsp\;&nbsp\;&nbsp\;&nbsp\;&nbsp\;&nbsp\;&nbsp\;&nbsp\;&nbsp\;&nbsp\;&nbsp\;&nbsp\;&nbsp\;&nbsp\;&nbsp\;&nbsp\;&nbsp\;&nbsp\;&nbsp\;&nbsp\;&nbsp\;&nbsp\;&nbsp\;&nbsp\;&nbsp\;&nbsp\;&nbsp\;&nbsp\;&nbsp\;&nbsp\;&nbsp\;&nbsp\;&nbsp\;&nbsp\;&nbsp\;&nbsp\;&nbsp\;&nbsp\;&nbsp\;&nbsp\;&nbsp\;&nbsp\;&nbsp\;&nbsp\;&nbsp\;&nbsp\;&nbsp\;&nbsp\;&nbsp\;&nbsp\;&nbsp\;&nbsp\;&nbsp\;&nbsp\;&nbsp\;&nbsp\;&nbsp\;&nbsp\;&nbsp\;&nbsp\;&nbsp\;&nbsp\;&nbsp\;&nbsp\;&nbsp\;&nbsp\;&nbsp\;&nbsp\;&nbsp\;&nbsp\;&nbsp\;&nbsp\;&nbsp\;&nbsp\;&nbsp\;&nbsp\;&nbsp\;&nbsp\;&nbsp\;&nbsp\;&nbsp\;&nbsp\;&nbsp\;&nbsp\;&nbsp\;&nbsp\;&nbsp\;&nbsp\;&nbsp\;&nbsp\;&nbsp\;&nbsp\;&nbsp\;&nbsp\;&nbsp\;&nbsp\;&nbsp\;&nbsp\;&nbsp\;&nbsp\;&nbsp\;&nbsp\;&nbsp\;&nbsp\;&nbsp\;&nbsp\;&nbsp\;&nbsp\;&nbsp\;&nbsp\;<br />\n<em>Sponsored by Libbie Agran &amp\; Guy Fitzwater and Union Bank.</em>
LOCATION:Fremont Theatre 1035 Monterey Street San Luis Obispo\, CA 93401
UID:e.2488.6494
SEQUENCE:3
DTSTAMP:20260423T133141Z
URL:https://business.pasorobleschamber.com/events/details/festival-mozaic-fringe-series-the-jazz-age-6494
END:VEVENT

END:VCALENDAR
