BEGIN:VCALENDAR
VERSION:2.0
PRODID:-//ChamberMaster//Event Calendar 2.0//EN
METHOD:PUBLISH
X-PUBLISHED-TTL:P3D
REFRESH-INTERVAL:P3D
CALSCALE:GREGORIAN
BEGIN:VEVENT
DTSTART:20160720T023000Z
DTEND:20160720T043000Z
X-MICROSOFT-CDO-ALLDAYEVENT:FALSE
SUMMARY:Festival Mozaic FRINGE Series: The Other Mozart
DESCRIPTION:This one-woman theater piece explores the true and untold story of Nannerl Mozart\, Wolfgang's sister\, with historic music and letters. The show features an original score for the instruments Nannerl knew intimately\, such as clavichords\, music boxes\, and bells\, as well as teacups\, fans and other ordinary objects that might have captured her imagination. With the opulent beauty of the dress and hair design\, the sweet smell of perfume\, and the clouds of dusting powder rising from the stage\, the performance creates a multi-sensual experience and transports the audience into a world of out-sized beauty and delight - but also of overwhelming restrictions and prejudice.
X-ALT-DESC;FMTTYPE=text/html:This one-woman theater piece explores the true and untold story of Nannerl Mozart\, Wolfgang&#39\;s sister\, with historic music and letters. The show features an original score for the instruments Nannerl knew intimately\, such as clavichords\, music boxes\, and bells\, as well as teacups\, fans and other ordinary objects that might have captured her imagination. With the opulent beauty of the dress and hair design\, the sweet smell of perfume\, and the clouds of dusting powder rising from the stage\, the performance creates a multi-sensual experience and transports the audience into a world of out-sized beauty and delight - but also of overwhelming restrictions and prejudice.
LOCATION:Cuesta College Cultural and Performing Arts Center Highway 1 at Hollister Road San Luis Obispo\, CA 93403
UID:e.2488.4707
SEQUENCE:3
DTSTAMP:20260424T144940Z
URL:https://business.pasorobleschamber.com/events/details/festival-mozaic-fringe-series-the-other-mozart-07-19-2016-4707
END:VEVENT

END:VCALENDAR
