BEGIN:VCALENDAR
VERSION:2.0
PRODID:-//ChamberMaster//Event Calendar 2.0//EN
METHOD:PUBLISH
X-PUBLISHED-TTL:P3D
REFRESH-INTERVAL:P3D
CALSCALE:GREGORIAN
BEGIN:VEVENT
DTSTART:20170726T173000Z
DTEND:20170726T190000Z
X-MICROSOFT-CDO-ALLDAYEVENT:FALSE
SUMMARY:Festival Mozaic Master Class: Jason Uyeyama\, Violin
DESCRIPTION:Come watch talented young students perform as they are guided and instructed by Festival violinist Jason Uyeyama\, director of string studies at La Sierra University. These classes are fun and informative for musicians and non-musicians alike!  If you are a student who is interested in performing in a master class\, please contact the Festival office.\n\n \n\nFree Community Events are sponsored by Community Health Centers.
X-ALT-DESC;FMTTYPE=text/html:Come watch talented young students perform as they are guided and instructed by Festival violinist Jason Uyeyama\, director of string studies at La Sierra University. These classes are fun and informative for musicians and non-musicians alike!&nbsp\; If you are a student who is interested in performing in a master class\, please contact the Festival office.<br />\n&nbsp\;<br />\n<em>Free Community Events are sponsored by Community Health Centers.</em>
LOCATION:Home of Minke Winkler Prins (contact for address) San Luis Obispo\, CA
UID:e.2488.6486
SEQUENCE:3
DTSTAMP:20260423T111746Z
URL:https://business.pasorobleschamber.com/events/details/festival-mozaic-master-class-jason-uyeyama-violin-6486
END:VEVENT

END:VCALENDAR
