BEGIN:VCALENDAR
VERSION:2.0
PRODID:-//ChamberMaster//Event Calendar 2.0//EN
METHOD:PUBLISH
X-PUBLISHED-TTL:P3D
REFRESH-INTERVAL:P3D
CALSCALE:GREGORIAN
BEGIN:VEVENT
DTSTART:20170724T173000Z
DTEND:20170724T190000Z
X-MICROSOFT-CDO-ALLDAYEVENT:FALSE
SUMMARY:Festival Mozaic Master Class: William Coulter\, Guitar
DESCRIPTION:Come watch talented young students perform as they are guided and instructed by William Coulter\, guitarist with Fire and Grace and guitar professor at UC Santa Cruz. These classes are fun and informative for musicians and non-musicians alike!  If you are a student who is interested in performing in a master class\, please contact the Festival office.\n\n \n\nFree Community Events are sponsored by Community Health Centers.
X-ALT-DESC;FMTTYPE=text/html:Come watch talented young students perform as they are guided and instructed by William Coulter\, guitarist with <em>Fire and Grace</em> and guitar professor at UC Santa Cruz. These classes are fun and informative for musicians and non-musicians alike!&nbsp\; If you are a student who is interested in performing in a master class\, please contact the Festival office.<br />\n&nbsp\;<br />\n<em>Free Community Events are sponsored by Community Health Centers.</em>
LOCATION:Avila Beach Community Center 191 San Miguel Road Avila Beach\, CA 93424
UID:e.2488.6482
SEQUENCE:3
DTSTAMP:20260423T111737Z
URL:https://business.pasorobleschamber.com/events/details/festival-mozaic-master-class-william-coulter-guitar-6482
END:VEVENT

END:VCALENDAR
