BEGIN:VCALENDAR
VERSION:2.0
PRODID:-//ChamberMaster//Event Calendar 2.0//EN
METHOD:PUBLISH
X-PUBLISHED-TTL:P3D
REFRESH-INTERVAL:P3D
CALSCALE:GREGORIAN
BEGIN:VEVENT
DTSTART:20170722T190000Z
DTEND:20170722T200000Z
X-MICROSOFT-CDO-ALLDAYEVENT:FALSE
SUMMARY:Festival Mozaic Midday Mini-Concert: Beethoven
DESCRIPTION:Beethoven - String Quartet No. 1 in F major\, op. 18\n\n \n\nJoin violinists Serena McKinney and Jisun Yang\, violist Luke Fleming and cellist Andrea Casarrubios for a Midday Mini-Concert featuring Beethoven's very first string quartet.\n\n \n\nFree Community Events are sponsored by Community Health Centers.
X-ALT-DESC;FMTTYPE=text/html:Beethoven - String Quartet No. 1 in F major\, op. 18<br />\n&nbsp\;<br />\nJoin violinists Serena McKinney and Jisun Yang\, violist Luke Fleming and cellist Andrea Casarrubios for a Midday Mini-Concert featuring Beethoven&#39\;s very first string quartet.<br />\n&nbsp\;<br />\n<em>Free Community Events are sponsored by Community Health Centers.</em>
LOCATION:Santa Rosa Catholic Church 1174 Main Street Cambria\, CA 93428
UID:e.2488.6478
SEQUENCE:3
DTSTAMP:20260423T112434Z
URL:https://business.pasorobleschamber.com/events/details/festival-mozaic-midday-mini-concert-beethoven-6478
END:VEVENT

END:VCALENDAR
