BEGIN:VCALENDAR
VERSION:2.0
PRODID:-//ChamberMaster//Event Calendar 2.0//EN
METHOD:PUBLISH
X-PUBLISHED-TTL:P3D
REFRESH-INTERVAL:P3D
CALSCALE:GREGORIAN
BEGIN:VEVENT
DTSTART:20170721T190000Z
DTEND:20170721T200000Z
X-MICROSOFT-CDO-ALLDAYEVENT:FALSE
SUMMARY:Festival Mozaic Midday Mini-Concert: Erik Arvinder & John Novacek
DESCRIPTION:Sibelius - Four Pieces for Violin and Piano\, op. 78\n\nEmil Sj gren - Poeme in C major\, op. 40\n\nMozart - Violin Sonata No. 35 in A major\, K. 526\n\n \n\nJoin Erik Arvinder and John Novacek for a Midday Mini-Concert featuring works by Mozart\, Sibelius\, and Emil Sj gren.\n\n \n\nFree Community Events are sponsored by Community Health Centers.
X-ALT-DESC;FMTTYPE=text/html:Sibelius - Four Pieces for Violin and Piano\, op. 78<br />\nEmil Sj&ouml\;gren - Poeme in C major\, op. 40<br />\nMozart - Violin Sonata No. 35 in A major\, K. 526<br />\n&nbsp\;<br />\nJoin Erik Arvinder and John Novacek for a Midday Mini-Concert featuring works by Mozart\, Sibelius\, and Emil Sj&ouml\;gren.<br />\n&nbsp\;<br />\n<em>Free Community Events are sponsored by Community Health Centers.</em>
LOCATION:Trinity United Methodist Church 490 Los Osos Valley Road Los Osos\, CA 93402
UID:e.2488.6476
SEQUENCE:3
DTSTAMP:20260423T135046Z
URL:https://business.pasorobleschamber.com/events/details/festival-mozaic-midday-mini-concert-erik-arvinder-john-novacek-6476
END:VEVENT

END:VCALENDAR
