BEGIN:VCALENDAR
VERSION:2.0
PRODID:-//ChamberMaster//Event Calendar 2.0//EN
METHOD:PUBLISH
X-PUBLISHED-TTL:P3D
REFRESH-INTERVAL:P3D
CALSCALE:GREGORIAN
BEGIN:VEVENT
DTSTART:20170725T190000Z
DTEND:20170725T200000Z
X-MICROSOFT-CDO-ALLDAYEVENT:FALSE
SUMMARY:Festival Mozaic Midday Mini-Concert: Grace Park & Noam Elkies
DESCRIPTION:J.S. Bach - Violin Partita No. 3 in E major\, BWV 1006\n\nJ S. Bach - Keyboard Partita No. 1 in B-flat major\, BWV 825\n\nMozart - Violin Sonata No. 33 in E-flat major\, K. 581\n\n \n\nJoin violinist Grace Park and pianist Noam Elkies for a Midday Mini-Concert featuring works of Mozart and Bach. \n\n \n\nFree Community Events are sponsored by Community Health Centers.
X-ALT-DESC;FMTTYPE=text/html:J.S. Bach - Violin Partita No. 3 in E major\, BWV 1006<br />\nJ S. Bach - Keyboard Partita No. 1 in B-flat major\, BWV 825<br />\nMozart - Violin Sonata No. 33 in E-flat major\, K. 581<br />\n&nbsp\;<br />\nJoin violinist Grace Park and pianist Noam Elkies for a Midday Mini-Concert featuring works of Mozart and Bach.&nbsp\;<br />\n&nbsp\;<br />\n<em>Free Community Events are sponsored by Community Health Centers.</em>
LOCATION:St. Timothy's Catholic Church 962 Piney Way Morro Bay\, 93442
UID:e.2488.6484
SEQUENCE:3
DTSTAMP:20260423T181150Z
URL:https://business.pasorobleschamber.com/events/details/festival-mozaic-midday-mini-concert-grace-park-noam-elkies-6484
END:VEVENT

END:VCALENDAR
