BEGIN:VCALENDAR
VERSION:2.0
PRODID:-//ChamberMaster//Event Calendar 2.0//EN
METHOD:PUBLISH
X-PUBLISHED-TTL:P3D
REFRESH-INTERVAL:P3D
CALSCALE:GREGORIAN
BEGIN:VEVENT
DTSTART:20170719T190000Z
DTEND:20170719T200000Z
X-MICROSOFT-CDO-ALLDAYEVENT:FALSE
SUMMARY:Festival Mozaic Midday Mini-Concert: Mendelssohn Piano Trio No. 2
DESCRIPTION:Join violinist Grace Park\, cellist Brian Thornton\, and pianist John Novacek for a Midday Mini-Concert featuring Felix Mendelssohn's Piano Trio No. 2. These concerts are "pay what you wish\," but reservations are required and can be made online or by calling the Festival office at (805) 781-3009.\n\n \n\nFree Community Events are sponsored by Community Health Centers.
X-ALT-DESC;FMTTYPE=text/html:Join violinist Grace Park\, cellist Brian Thornton\, and pianist John Novacek for a Midday Mini-Concert featuring Felix Mendelssohn&#39\;s Piano Trio No. 2. These concerts are &quot\;pay what you wish\,&quot\; but reservations are required and can be made online or by calling the Festival office at (805) 781-3009.<br />\n&nbsp\;<br />\n<em>Free Community Events are sponsored by Community Health Centers.</em>
LOCATION:Community Church of Atascadero 5850 Rosario Avenue Atascadero\, CA 93422
UID:e.2488.6473
SEQUENCE:3
DTSTAMP:20260423T112826Z
URL:https://business.pasorobleschamber.com/events/details/festival-mozaic-midday-mini-concert-mendelssohn-piano-trio-no-2-6473
END:VEVENT

END:VCALENDAR
