BEGIN:VCALENDAR
VERSION:2.0
PRODID:-//ChamberMaster//Event Calendar 2.0//EN
METHOD:PUBLISH
X-PUBLISHED-TTL:P3D
REFRESH-INTERVAL:P3D
CALSCALE:GREGORIAN
BEGIN:VEVENT
DTSTART:20170724T010000Z
DTEND:20170724T040000Z
X-MICROSOFT-CDO-ALLDAYEVENT:FALSE
SUMMARY:Festival Mozaic Notable Encounter Dinner: Beethoven’s Genius
DESCRIPTION:Ludwig Van Beethoven: String Quartet No. 10 in E-flat major\, op. 74 "Harp"\n\n \n\nEnjoy award-winning Central Coast wines from Kynsi Winery and fresh farm-to-table cuisine in the beautiful gardens and estate of Shirley and Mike Ritter\, than gather in the barn for a musical exploration of one of Beethoven's most beautiful works led by violist Ben Ullery\, assisted by violinists Jason Uyeyama and Nina Fan and cellist Madeleine Kabat.\n\n \n\nSponsored by Shirley and Mike Ritter and Kynsi Winery.
X-ALT-DESC;FMTTYPE=text/html:Ludwig Van Beethoven: String Quartet No. 10 in E-flat major\, op. 74 &quot\;Harp&quot\;<br />\n&nbsp\;<br />\nEnjoy award-winning Central Coast wines from Kynsi Winery and fresh farm-to-table cuisine in the beautiful gardens and estate of Shirley and Mike Ritter\, than gather in the barn for a musical exploration of one of Beethoven&rsquo\;s most beautiful works led by violist Ben Ullery\, assisted by violinists Jason Uyeyama and Nina Fan and cellist Madeleine Kabat.<br />\n&nbsp\;<br />\n<em>Sponsored by Shirley and Mike Ritter and Kynsi Winery.</em>
LOCATION:Wind Dance Farm Street address provided with ticket purchase Avila Beach\, CA 93405
UID:e.2488.6481
SEQUENCE:3
DTSTAMP:20260423T111735Z
URL:https://business.pasorobleschamber.com/events/details/festival-mozaic-notable-encounter-dinner-beethoven-s-genius-6481
END:VEVENT

END:VCALENDAR
