BEGIN:VCALENDAR
VERSION:2.0
PRODID:-//ChamberMaster//Event Calendar 2.0//EN
METHOD:PUBLISH
X-PUBLISHED-TTL:P3D
REFRESH-INTERVAL:P3D
CALSCALE:GREGORIAN
BEGIN:VEVENT
DTSTART:20160718T010000Z
DTEND:20160718T050000Z
X-MICROSOFT-CDO-ALLDAYEVENT:FALSE
SUMMARY:Festival Mozaic Notable Encounter DINNER: Dueling Violins
DESCRIPTION:Paso Robles' newest luxury resort opens its doors to Festival Mozaic for an evening of fine dining\, fine wines and fine music. Join Scott Yoo for a behind-the-scenes peek into Sergei Prokofiev's lyrical\, playful and fantastic Sonata for Two Violins. ? SERGEI PROKOFIEV - Sonata for Two Violins SCOTT YOO\, host and violin SANDY YAMAMOTO\, violin
X-ALT-DESC;FMTTYPE=text/html:Paso Robles&#39\; newest luxury resort opens its doors to Festival Mozaic for an evening of fine dining\, fine wines and fine music. Join Scott Yoo for a behind-the-scenes peek into Sergei Prokofiev&#39\;s lyrical\, playful and fantastic Sonata for Two Violins. ? SERGEI PROKOFIEV - Sonata for Two Violins SCOTT YOO\, host and violin SANDY YAMAMOTO\, violin
LOCATION:Allegretto Vineyard Resort 2700 Buena Vista Drive Paso Robles\, CA 93446
UID:e.2488.4704
SEQUENCE:3
DTSTAMP:20260424T130423Z
URL:https://business.pasorobleschamber.com/events/details/festival-mozaic-notable-encounter-dinner-dueling-violins-07-17-2016-4704
END:VEVENT

END:VCALENDAR
