BEGIN:VCALENDAR
VERSION:2.0
PRODID:-//ChamberMaster//Event Calendar 2.0//EN
METHOD:PUBLISH
X-PUBLISHED-TTL:P3D
REFRESH-INTERVAL:P3D
CALSCALE:GREGORIAN
BEGIN:VEVENT
DTSTART:20160714T010000Z
DTEND:20160714T050000Z
X-MICROSOFT-CDO-ALLDAYEVENT:FALSE
SUMMARY:Festival Mozaic Notable Encounter DINNER: Transfigured Night
DESCRIPTION:Enjoy a gourmet dinner\, award winning wines and sweeping vistas at the Falkenhagen's beautiful Spanish-style hacienda. Join distinguished Festival Musicians for an exploration of "Transfigured Night\," Arnold Schoenberg's programmatic masterpiece sextet that bridges the gap between the late Romantic period and the 20th century. ? ARNOLD SCHOENBERG - Verkl rte Nacht\, op. 4 SANDY YAMAMOTO\, violin and host JASON UYEYAMA\, violin MAURYCY BANASZEK\, SHUANGSHUANG LIU\, violas JONAH KIM\, ANDREA CASARRUBIOS\, cellos
X-ALT-DESC;FMTTYPE=text/html:Enjoy a gourmet dinner\, award winning wines and sweeping vistas at the Falkenhagen&#39\;s beautiful Spanish-style hacienda. Join distinguished Festival Musicians for an exploration of &quot\;Transfigured Night\,&quot\; Arnold Schoenberg&#39\;s programmatic masterpiece sextet that bridges the gap between the late Romantic period and the 20th century. ? ARNOLD SCHOENBERG - Verkl&auml\;rte Nacht\, op. 4 SANDY YAMAMOTO\, violin and host JASON UYEYAMA\, violin MAURYCY BANASZEK\, SHUANGSHUANG LIU\, violas JONAH KIM\, ANDREA CASARRUBIOS\, cellos
LOCATION:Private Residence in San Luis Obispo
UID:e.2488.4696
SEQUENCE:3
DTSTAMP:20260424T130343Z
URL:https://business.pasorobleschamber.com/events/details/festival-mozaic-notable-encounter-dinner-transfigured-night-07-13-2016-4696
END:VEVENT

END:VCALENDAR
