BEGIN:VCALENDAR
VERSION:2.0
PRODID:-//ChamberMaster//Event Calendar 2.0//EN
METHOD:PUBLISH
X-PUBLISHED-TTL:P3D
REFRESH-INTERVAL:P3D
CALSCALE:GREGORIAN
BEGIN:VEVENT
DTSTART:20170727T230000Z
DTEND:20170728T000000Z
X-MICROSOFT-CDO-ALLDAYEVENT:FALSE
SUMMARY:Festival Mozaic Notable Encounter Insight: Brahms’ Romanticism
DESCRIPTION:Johannes Brahms: Clarinet Quintet in B minor\, op. 115\n\n \n\nJoin cellist Jonah Kim for a discussion and exploration of one of Brahms' final works\, written when he returned to composing after retirement. With its nods to Mozart and the classical realm\, this work delivers the listener to a new Romantic world\, where Brahms is a master. Also featuring clarinetist Romie de Guise-Langlois\, violinists Emily Daggett Smith and Aurelia Duca\, and violist Caitlin Lynch.\n\n \n\nSponsored by Lois and Dave Bruns.
X-ALT-DESC;FMTTYPE=text/html:Johannes Brahms: Clarinet Quintet in B minor\, op. 115<br />\n&nbsp\;<br />\nJoin cellist Jonah Kim for a discussion and exploration of one of Brahms&rsquo\; final works\, written when he returned to composing after retirement. With its nods to Mozart and the classical realm\, this work delivers the listener to a new Romantic world\, where Brahms is a master. Also featuring clarinetist Romie de Guise-Langlois\, violinists Emily Daggett Smith and Aurelia Duca\, and violist Caitlin Lynch.<br />\n&nbsp\;<br />\n<em><span style="font-family:calibri\,sans-serif"><span style="font-size:11.0pt">Sponsored by Lois and Dave Bruns.</span></span></em>
LOCATION:Temple Ner Shalom 875 Laureate Lane San Luis Obispo\, CA 93405
UID:e.2488.6491
SEQUENCE:3
DTSTAMP:20260423T112107Z
URL:https://business.pasorobleschamber.com/events/details/festival-mozaic-notable-encounter-insight-brahms-romanticism-6491
END:VEVENT

END:VCALENDAR
