BEGIN:VCALENDAR
VERSION:2.0
PRODID:-//ChamberMaster//Event Calendar 2.0//EN
METHOD:PUBLISH
X-PUBLISHED-TTL:P3D
REFRESH-INTERVAL:P3D
CALSCALE:GREGORIAN
BEGIN:VEVENT
DTSTART:20160722T000000Z
DTEND:20160722T010000Z
X-MICROSOFT-CDO-ALLDAYEVENT:FALSE
SUMMARY:Festival Mozaic Notable Encounter INSIGHT: On Stage with Schubert
DESCRIPTION:Join the musicians on the stage to learn more about one of the most popular works in the chamber music repertoire. Bassist Susan Cahill will take the audience on a tour behind the score of Franz Schubert's "Trout" Quintet. ? FRANZ SCHUBERT - Piano Quintet in A major\, D. 667 "Trout" Susan Cahill\, host & double bass Grace Park\, violin Ben Ullery\, viola Madeleine Kabat\, cello Noam Elkies\, piano
X-ALT-DESC;FMTTYPE=text/html:Join the musicians on the stage to learn more about one of the most popular works in the chamber music repertoire. Bassist Susan Cahill will take the audience on a tour behind the score of Franz Schubert&#39\;s &quot\;Trout&quot\; Quintet. ? FRANZ SCHUBERT - Piano Quintet in A major\, D. 667 &quot\;Trout&quot\; Susan Cahill\, host &amp\; double bass Grace Park\, violin Ben Ullery\, viola Madeleine Kabat\, cello Noam Elkies\, piano
LOCATION:Cuesta College Cultural and Performing Arts Center Highway 1 at Hollister Road San Luis Obispo\, CA 93403
UID:e.2488.4714
SEQUENCE:3
DTSTAMP:20260424T130456Z
URL:https://business.pasorobleschamber.com/events/details/festival-mozaic-notable-encounter-insight-on-stage-with-schubert-07-21-2016-4714
END:VEVENT

END:VCALENDAR
