BEGIN:VCALENDAR
VERSION:2.0
PRODID:-//ChamberMaster//Event Calendar 2.0//EN
METHOD:PUBLISH
X-PUBLISHED-TTL:P3D
REFRESH-INTERVAL:P3D
CALSCALE:GREGORIAN
BEGIN:VEVENT
DTSTART:20160717T023000Z
DTEND:20160717T043000Z
X-MICROSOFT-CDO-ALLDAYEVENT:FALSE
SUMMARY:Festival Mozaic ORCHESTRA: Baroque in the Vines
DESCRIPTION:Scott Yoo leads the Festival Orchestra in a program celebrating baroque masterpieces at the enchanting setting of Chapel Hill\, a private chapel built from historical artifacts from the William Randolph Hearst Collection. The grounds open at 6 p.m. for picnicking and enjoying the beautiful views at this remote\, one-of-a-kind location before you relax into an evening of resplendent music. All works will be led from the violin by music director Scott Yoo. ? HANDEL - Overture from Alessandro\, HWV 21 ? TORELLI - Trumpet Concerto in D major\, ?Etienne Roger 188? (Michael Tiscione\, trumpet) ? BACH - Harpsichord Concerto in D minor\, BWV 1052 (Noam Elkies\, harpsichord) ? BACH - Orchestral Suite No. 1 in C major\, BWV 1066 Note: Shuttles to the top of the hill will begin transporting patrons for picnicking at 6 PM. This is an outdoor venue so be prepared for varying temperatures. Benches are provided for outside seating or you may bring your own chair.
X-ALT-DESC;FMTTYPE=text/html:Scott Yoo leads the Festival Orchestra in a program celebrating baroque masterpieces at the enchanting setting of Chapel Hill\, a private chapel built from historical artifacts from the William Randolph Hearst Collection. The grounds open at 6 p.m. for picnicking and enjoying the beautiful views at this remote\, one-of-a-kind location before you relax into an evening of resplendent music. All works will be led from the violin by music director Scott Yoo. ? HANDEL - Overture from Alessandro\, HWV 21 ? TORELLI - Trumpet Concerto in D major\, ?Etienne Roger 188? (Michael Tiscione\, trumpet) ? BACH - Harpsichord Concerto in D minor\, BWV 1052 (Noam Elkies\, harpsichord) ? BACH - Orchestral Suite No. 1 in C major\, BWV 1066 Note: Shuttles to the top of the hill will begin transporting patrons for picnicking at 6 PM. This is an outdoor venue so be prepared for varying temperatures. Benches are provided for outside seating or you may bring your own chair.
LOCATION:Chapel Hill McMillan Canyon Road at Highway 46 Shandon\, CA 93461
UID:e.2488.4701
SEQUENCE:3
DTSTAMP:20260424T155750Z
URL:https://business.pasorobleschamber.com/events/details/festival-mozaic-orchestra-baroque-in-the-vines-07-16-2016-4701
END:VEVENT

END:VCALENDAR
