BEGIN:VCALENDAR
VERSION:2.0
PRODID:-//ChamberMaster//Event Calendar 2.0//EN
METHOD:PUBLISH
X-PUBLISHED-TTL:P3D
REFRESH-INTERVAL:P3D
CALSCALE:GREGORIAN
BEGIN:VEVENT
DTSTART:20170729T170000Z
DTEND:20170729T193000Z
X-MICROSOFT-CDO-ALLDAYEVENT:FALSE
SUMMARY:Festival Mozaic Orchestra Open Rehearsal: Metamorphosis and Reformation
DESCRIPTION:Get a behind-the-scenes glimpse into what it takes to make truly great music.  Hear and watch Scott Yoo and the other Festival artists as they prepare for their concerts.  Be sure to bring the young musicians in your life.\n\n\n\nFelix Mendelssohn: Symphony No. 5\, op. 107\, "Reformation"\n\nAaron Copland: Clarinet Concerto (Romie de Guise-Langlois\, clarinet)\n\nRichard Strauss: Metamorphosen\, a study for 23 solo strings\n\n\n\nFree Community Events are sponsored by Community Health Centers.
X-ALT-DESC;FMTTYPE=text/html:Get a behind-the-scenes glimpse into what it takes to make truly great music.&nbsp\; Hear and watch Scott Yoo and the other Festival artists as they prepare for their concerts.&nbsp\; Be sure to bring the young musicians in your life.<br />\n<br />\nFelix Mendelssohn: Symphony No. 5\, op. 107\, &ldquo\;Reformation&rdquo\;<br />\nAaron Copland: Clarinet Concerto (Romie de Guise-Langlois\, clarinet)<br />\nRichard Strauss: Metamorphosen\, a study for 23 solo strings<br />\n<br />\n<em>Free Community Events are sponsored by Community Health Centers.</em>
LOCATION:Cuesta College Cultural and Performing Arts Center Highway 1 San Luis Obispo\, CA 93405
UID:e.2488.6495
SEQUENCE:3
DTSTAMP:20260423T133834Z
URL:https://business.pasorobleschamber.com/events/details/festival-mozaic-orchestra-open-rehearsal-metamorphosis-and-reformation-6495
END:VEVENT

END:VCALENDAR
