BEGIN:VCALENDAR
VERSION:2.0
PRODID:-//ChamberMaster//Event Calendar 2.0//EN
METHOD:PUBLISH
X-PUBLISHED-TTL:P3D
REFRESH-INTERVAL:P3D
CALSCALE:GREGORIAN
BEGIN:VEVENT
DTSTART:20170727T030000Z
DTEND:20170727T050000Z
X-MICROSOFT-CDO-ALLDAYEVENT:FALSE
SUMMARY:Festival Mozaic Outdoor Concert Simulcast
DESCRIPTION:Wolfgang Amadeus Mozart:  Symphony No. 40 in G minor\, K. 550\n\nLudwig van Beethoven:  Symphony No. 1 in C major\, op. 21\n\n \n\nBring a chair and a blanket   the Classical Evolution orchestral program will be broadcast outside in Mission Plaza for all to enjoy. Scott Yoo leads a Notable Encounter and conducts the Festival Orchestra.\n\n \n\nFree Community Events are sponsored by Community Health Centers.
X-ALT-DESC;FMTTYPE=text/html:Wolfgang Amadeus Mozart:&nbsp\; Symphony No. 40 in G minor\, K. 550<br />\nLudwig van Beethoven:&nbsp\; Symphony No. 1 in C major\, op. 21<br />\n&nbsp\;<br />\nBring a chair and a blanket &ndash\; the Classical Evolution orchestral program will be broadcast outside in Mission Plaza for all to enjoy. Scott Yoo leads a Notable Encounter and conducts the Festival Orchestra.<br />\n&nbsp\;<br />\n<em>Free Community Events are sponsored by Community Health Centers.</em>
LOCATION:Mission Plaza San Luis Obispo\, CA 93401
UID:e.2488.6490
SEQUENCE:3
DTSTAMP:20260423T165832Z
URL:https://business.pasorobleschamber.com/events/details/festival-mozaic-outdoor-concert-simulcast-6490
END:VEVENT

END:VCALENDAR
