BEGIN:VCALENDAR
VERSION:2.0
PRODID:-//ChamberMaster//Event Calendar 2.0//EN
METHOD:PUBLISH
X-PUBLISHED-TTL:P3D
REFRESH-INTERVAL:P3D
CALSCALE:GREGORIAN
BEGIN:VEVENT
DTSTART:20160722T010000Z
DTEND:20160722T020000Z
X-MICROSOFT-CDO-ALLDAYEVENT:FALSE
SUMMARY:Festival Mozaic Picnic DINNER
DESCRIPTION:Coming for the Notable Encounter "On Stage with Schubert" and staying for the concert? Join the Festival friends for a quick and easy outdoor meal between events with a casual\, laid-back picnic dinner featuring menu items from SLO Provisions\, which features local ingredients lovingly prepared with a rustic refined touch. Grab a glass of wine from the Festival Favorite Wineries and relax in style.
X-ALT-DESC;FMTTYPE=text/html:Coming for the Notable Encounter &quot\;On Stage with Schubert&quot\; and staying for the concert? Join the Festival friends for a quick and easy outdoor meal between events with a casual\, laid-back picnic dinner featuring menu items from SLO Provisions\, which features local ingredients lovingly prepared with a rustic refined touch. Grab a glass of wine from the Festival Favorite Wineries and relax in style.
LOCATION:Cuesta College Cultural and Performing Arts Center Highway 1 at Hollister Road San Luis Obispo\, CA 93403
UID:e.2488.4715
SEQUENCE:3
DTSTAMP:20260424T133010Z
URL:https://business.pasorobleschamber.com/events/details/festival-mozaic-picnic-dinner-07-21-2016-4715
END:VEVENT

END:VCALENDAR
