BEGIN:VCALENDAR
VERSION:2.0
PRODID:-//ChamberMaster//Event Calendar 2.0//EN
METHOD:PUBLISH
X-PUBLISHED-TTL:P3D
REFRESH-INTERVAL:P3D
CALSCALE:GREGORIAN
BEGIN:VEVENT
DTSTART:20170730T013000Z
DTEND:20170730T030000Z
X-MICROSOFT-CDO-ALLDAYEVENT:FALSE
SUMMARY:Festival Mozaic Picnic in the Courtyard
DESCRIPTION:Need a quick bite between shows? Join Festival friends for a quick and easy outdoor meal between events with a casual\, laid-back picnic dinner featuring menu items from SLO Provisions\, which features local ingredients lovingly prepared with a rustic and refined touch. Grab a glass of wine from Paso Robles winery Vines on the Marycrest and relax in style.\n\n \n\nSponsored by SLO Provisions and Vines on the Marycrest.
X-ALT-DESC;FMTTYPE=text/html:Need a quick bite between shows? Join Festival friends for a quick and easy outdoor meal between events with a casual\, laid-back picnic dinner featuring menu items from SLO Provisions\, which features local ingredients lovingly prepared with a rustic and refined touch. Grab a glass of wine from Paso Robles winery Vines on the Marycrest and relax in style.<br />\n&nbsp\;<br />\n<em>Sponsored by SLO Provisions and Vines on the Marycrest.</em>
LOCATION:Cuesta College Courtyard Highway 1 San Luis Obispo\, CA 93405
UID:e.2488.6497
SEQUENCE:3
DTSTAMP:20260423T111755Z
URL:https://business.pasorobleschamber.com/events/details/festival-mozaic-picnic-in-the-courtyard-6497
END:VEVENT

END:VCALENDAR
