BEGIN:VCALENDAR
VERSION:2.0
PRODID:-//ChamberMaster//Event Calendar 2.0//EN
METHOD:PUBLISH
X-PUBLISHED-TTL:P3D
REFRESH-INTERVAL:P3D
CALSCALE:GREGORIAN
BEGIN:VEVENT
DTSTART:20181026T003000Z
DTEND:20181026T033000Z
X-MICROSOFT-CDO-ALLDAYEVENT:FALSE
SUMMARY:Festival Mozaic WinterMezzo I: Notable Encounter Dinner
DESCRIPTION:Join Scott Yoo and the Festival artists in the Paso Robles Park Ballroom for a musical and culinary adventure\, featuring award-winning Central Coast wines from SummerWood Winery and local\, fresh cuisine by Chef Jeffery Scott. Then hear artists perform concert program highlights by Rossini and Dvor k.\n\n\n\nGioachino Rossini - Duet for Cello and Double Bass\n\nAnton n Dvor k - String Quintet No. 2\, Op. 77\n\n\n\nScott Yoo\, Jason Uyeyama\, violins\n\nBen Ullery\, viola\n\nJonah Kim\, cello\n\nSusan Cahill\, bass
X-ALT-DESC;FMTTYPE=text/html:Join Scott Yoo and the Festival artists in the Paso Robles Park Ballroom for a musical and culinary adventure\, featuring award-winning Central Coast wines from SummerWood Winery and local\, fresh cuisine by Chef Jeffery Scott. Then hear artists perform concert program highlights by Rossini and Dvor&aacute\;k.<br />\n<br />\nGioachino Rossini - Duet for Cello and Double Bass<br />\nAnton&iacute\;n Dvor&aacute\;k - String Quintet No. 2\, Op. 77<br />\n<br />\nScott Yoo\, Jason Uyeyama\, violins<br />\nBen Ullery\, viola<br />\nJonah Kim\, cello<br />\nSusan Cahill\, bass
LOCATION:Park Ballroom 1232 Park Street Paso Robles\, CA 93446
UID:e.2488.9556
SEQUENCE:3
DTSTAMP:20260422T085811Z
URL:https://business.pasorobleschamber.com/events/details/festival-mozaic-wintermezzo-i-notable-encounter-dinner-9556
END:VEVENT

END:VCALENDAR
