BEGIN:VCALENDAR
VERSION:2.0
PRODID:-//ChamberMaster//Event Calendar 2.0//EN
METHOD:PUBLISH
X-PUBLISHED-TTL:P3D
REFRESH-INTERVAL:P3D
CALSCALE:GREGORIAN
BEGIN:VEVENT
DTSTART:20160228T013000Z
DTEND:20160227T080000Z
X-MICROSOFT-CDO-ALLDAYEVENT:FALSE
SUMMARY:Festival Mozaic WinterMezzo Notable Encounter Dinner
DESCRIPTION:Join the artists in a musical and culinary adventure. Award-winning Central Coast wines from Kenneth Volk Vineyards are paired with local\, fresh cuisine by Chef Jeffery Scott in an intimate setting. You'll be welcomed by hosts Dennis Schneider and Sharon Harris into their beautiful\, art-filled home for a wine reception\, three-course meal and a one-hour program with Scott Yoo\, violin\; Bion Tsang\, cello\; and John Novacek\, piano.
X-ALT-DESC;FMTTYPE=text/html:Join the artists in a musical and culinary adventure. Award-winning Central Coast wines from Kenneth Volk Vineyards are paired with local\, fresh cuisine by Chef Jeffery Scott in an intimate setting. You&#39\;ll be welcomed by hosts Dennis Schneider and Sharon Harris into their beautiful\, art-filled home for a wine reception\, three-course meal and a one-hour program with Scott Yoo\, violin\; Bion Tsang\, cello\; and John Novacek\, piano.
LOCATION:Home of Dennis Schneider and Sharon Harris\, Arroyo Grande\, CA 93420 Home of Dennis Schneider and Sharon Harris Address/directions will be provided once you purchase a ticket.
UID:e.2488.4478
SEQUENCE:3
DTSTAMP:20260424T205927Z
URL:https://business.pasorobleschamber.com/events/details/festival-mozaic-wintermezzo-notable-encounter-dinner-02-27-2016-4478
END:VEVENT

END:VCALENDAR
