BEGIN:VCALENDAR
VERSION:2.0
PRODID:-//ChamberMaster//Event Calendar 2.0//EN
METHOD:PUBLISH
X-PUBLISHED-TTL:P3D
REFRESH-INTERVAL:P3D
CALSCALE:GREGORIAN
BEGIN:VEVENT
DTSTART:20180225T013000Z
DTEND:20180225T050000Z
X-MICROSOFT-CDO-ALLDAYEVENT:FALSE
SUMMARY:Festival Mozaic WinterMezzo Notable Encounter Dinner
DESCRIPTION:Join Festival Mozaic artists in a musical and culinary adventure. Award-winning wines from Tablas Creek Vineyard are paired with local\, fresh cuisine by Chef Jeffery Scott at the historic Paso Robles Park Ballroom. Enjoy the hospitality of San Luis Obispo County and hear the artists perform program highlights.\n\n \n\nJEAN EMILE PAUL CRAS - Suite en Duo\n\nAlice Dade\, Flute & Meredith Clark\, Harp\n\n \n\nALBERT ROUSSEL - Serenade\, op. 30\n\nAlice Dade\, Flute\, Scott Yoo\, Violin\, Jessica Chang\, Viola\, Jonah Kim\, Cello & Meredith Clark\, Harp
X-ALT-DESC;FMTTYPE=text/html:<span style="color:#1C1C3C">Join Festival Mozaic artists in a musical and culinary adventure. Award-winning wines from Tablas Creek Vineyard are paired with local\, fresh cuisine by Chef Jeffery Scott at the historic Paso Robles Park Ballroom. Enjoy the hospitality of San Luis Obispo County and hear the artists perform program highlights.</span><br />\n&nbsp\;<br />\n<span style="color:#1C1C3C">JEAN EMILE PAUL CRAS - Suite en Duo</span><br />\n<span style="color:#1C1C3C">Alice Dade\, Flute &amp\; Meredith Clark\, Harp</span><br />\n&nbsp\;<br />\n<span style="color:#1C1C3C">ALBERT ROUSSEL - Serenade\, op. 30</span><br />\n<span style="color:#1C1C3C">Alice Dade\, Flute\, Scott Yoo\, Violin\, Jessica Chang\, Viola\, Jonah Kim\, Cello &amp\; Meredith Clark\, Harp</span>
LOCATION:Park Ballroom 1232 Park Street Paso Robles\, CA 93446
UID:e.2488.6630
SEQUENCE:3
DTSTAMP:20260422T045431Z
URL:https://business.pasorobleschamber.com/events/details/festival-mozaic-wintermezzo-notable-encounter-dinner-6630
END:VEVENT

END:VCALENDAR
