BEGIN:VCALENDAR
VERSION:2.0
PRODID:-//ChamberMaster//Event Calendar 2.0//EN
METHOD:PUBLISH
X-PUBLISHED-TTL:P3D
REFRESH-INTERVAL:P3D
CALSCALE:GREGORIAN
BEGIN:VEVENT
DTSTART:20240726T210000Z
DTEND:20240726T230000Z
X-MICROSOFT-CDO-ALLDAYEVENT:FALSE
SUMMARY:Film: Earl
DESCRIPTION:Earl Kim is an American composer who was born into abject poverty. As a child\, music transformed his life. He learned the keyboard from a church organist and later studied with a Los Angeles composer and teacher free of charge for seven years. He went on to study with some of the great modern composers of the era including Arnold Schoenberg. Earl was drafted in 1941 and served his country as a US Army Air Force Combat Intelligence Officer. He flew fifty feet above Nagasaki one day after the atom bomb was dropped. Earl returned home and stood up to McCarthyism refusing to sign the Loyalty Oath. He taught at Princeton for 15 years\, and Harvard for 23 years. He made an album with the violinist Itzhak Perlman. Earl Kim died at the\n\nage of 78 never fully achieving recognition for his brilliant work as a composer. Until now.\n\n\n\nEarl Kim was also one of Scott Yoo's teachers at Harvard University. His piece Where Grief Slumbers will be performed on the chamber music concert later on Friday\, July 26.
X-ALT-DESC;FMTTYPE=text/html:<span style="color:rgb(0\, 0\, 0)\; font-family:rubik\,sans-serif\; font-size:16px">Earl Kim is an American composer who was born into abject poverty. As a child\, music transformed his life. He learned the keyboard from a church organist and later studied with a Los Angeles composer and teacher free of charge for seven years. He went on to study with some of the great modern composers of the era including Arnold Schoenberg. Earl was drafted in 1941 and served his country as a US Army Air Force Combat Intelligence Officer. He flew fifty feet above Nagasaki one day after the atom bomb was dropped. Earl returned home and stood up to McCarthyism refusing to sign the Loyalty Oath. He taught at Princeton for 15 years\, and Harvard for 23 years. He made an album with the violinist Itzhak Perlman. Earl Kim died at the</span><br />\n<span style="color:rgb(0\, 0\, 0)\; font-family:rubik\,sans-serif\; font-size:16px">age of 78 never fully achieving recognition for his brilliant work as a composer. Until now.</span><br />\n<br />\n<span style="color:rgb(0\, 0\, 0)\; font-family:rubik\,sans-serif\; font-size:16px">Earl Kim was also one of Scott Yoo&#39\;s teachers at Harvard University. His piece Where Grief Slumbers will be performed on the chamber music concert later on Friday\, July 26.</span>
LOCATION:Palm Theatre 817 Palm Street San Luis Obispo\, CA 93401
UID:e.2488.15442
SEQUENCE:3
DTSTAMP:20260422T210255Z
URL:https://business.pasorobleschamber.com/events/details/film-earl-15442
END:VEVENT

END:VCALENDAR
