BEGIN:VCALENDAR
VERSION:2.0
PRODID:-//ChamberMaster//Event Calendar 2.0//EN
METHOD:PUBLISH
X-PUBLISHED-TTL:P3D
REFRESH-INTERVAL:P3D
CALSCALE:GREGORIAN
BEGIN:VEVENT
DTSTART;VALUE=DATE:20160205
DTEND;VALUE=DATE:20160206
TRANSP:TRANSPARENT
X-MICROSOFT-CDO-ALLDAYEVENT:TRUE
SUMMARY:First Fridays
DESCRIPTION:The first Friday of every month you can find special deals or fun treats at every stop along the Creston Wine Trail. This month at Olivas de Oro we will have the perfect pairings for your Valentines dinner. Free tastings and samples.\n\nhttp://www.crestonwinetrail.com
X-ALT-DESC;FMTTYPE=text/html:The first Friday of every month you can find special deals or fun treats at every stop along the Creston Wine Trail. This month at Olivas de Oro we will have the perfect pairings&nbsp\;for your Valentines dinner. Free tastings and samples.<br />\nhttp://www.crestonwinetrail.com
LOCATION:Olivas de Oro Olive Company 4625 La Panza Road Creston\, CA 93432 15min from Paso Robles\, just take Creston Road 15min from Atascadero\, Just take Hwy 41
UID:e.2488.4557
SEQUENCE:3
DTSTAMP:20260424T205309Z
URL:https://business.pasorobleschamber.com/events/details/first-fridays-02-05-2016-4557
END:VEVENT

END:VCALENDAR
