BEGIN:VCALENDAR
VERSION:2.0
PRODID:-//ChamberMaster//Event Calendar 2.0//EN
METHOD:PUBLISH
X-PUBLISHED-TTL:P3D
REFRESH-INTERVAL:P3D
CALSCALE:GREGORIAN
BEGIN:VEVENT
DTSTART;VALUE=DATE:20250301
DTEND;VALUE=DATE:20250302
TRANSP:TRANSPARENT
X-MICROSOFT-CDO-ALLDAYEVENT:TRUE
SUMMARY:First Saturday: Women's Work Opening
DESCRIPTION:Enjoy the opening of our new exhibition\, "Women's Work"\, while enjoying music by Eric Burgener and wine from one of our generous Winery Partners\, Adelaida Vineyards & Winery!
X-ALT-DESC;FMTTYPE=text/html:Enjoy the opening of our new exhibition\, &quot\;Women&#39\;s Work&quot\;\, while enjoying music by Eric Burgener and wine from one of our generous Winery Partners\, Adelaida Vineyards &amp\; Winery!
LOCATION:Studios on the Park 1130 Pine Street
UID:e.2488.17251
SEQUENCE:3
DTSTAMP:20260426T015636Z
URL:https://business.pasorobleschamber.com/events/details/first-saturday-women-s-work-opening-17251
END:VEVENT

END:VCALENDAR
