BEGIN:VCALENDAR
VERSION:2.0
PRODID:-//ChamberMaster//Event Calendar 2.0//EN
METHOD:PUBLISH
X-PUBLISHED-TTL:P3D
REFRESH-INTERVAL:P3D
CALSCALE:GREGORIAN
BEGIN:VEVENT
DTSTART;VALUE=DATE:20170211
DTEND;VALUE=DATE:20170212
TRANSP:TRANSPARENT
X-MICROSOFT-CDO-ALLDAYEVENT:TRUE
SUMMARY:Four Lanterns Valentine's/Speakeasy Winemaker Dinner
DESCRIPTION:Join us for our Valentine's Winemaker Dinner with the Speakeasy theme! The event starts at 6pm. Chef Charlie will be preparing this Speakeasy era meal\, paired with Four Lanterns Wines. Speakeasy garb is optional and encouraged! \n\nPrice: $90 for Wine Club Members\; $110/ non-wine club members.\n\nRSVP @ jackie@fourlanternswinery.com
X-ALT-DESC;FMTTYPE=text/html:Join us for our Valentine&#39\;s Winemaker Dinner with the Speakeasy theme! The event starts at 6pm. Chef Charlie will be preparing this Speakeasy era meal\, paired with Four Lanterns Wines. Speakeasy garb is optional and encouraged!&nbsp\;<br />\nPrice: $90 for Wine Club Members\; $110/ non-wine club members.<br />\nRSVP @ jackie@fourlanternswinery.com
LOCATION:Four Lanterns Winery Tasting Barn 2485 West Highway 46 Paso Robles\, CA 93446
UID:e.2488.6068
SEQUENCE:3
DTSTAMP:20260419T180537Z
URL:https://business.pasorobleschamber.com/events/details/four-lanterns-valentine-s-speakeasy-winemaker-dinner-6068
END:VEVENT

END:VCALENDAR
