BEGIN:VCALENDAR
VERSION:2.0
PRODID:-//ChamberMaster//Event Calendar 2.0//EN
METHOD:PUBLISH
X-PUBLISHED-TTL:P3D
REFRESH-INTERVAL:P3D
CALSCALE:GREGORIAN
BEGIN:VEVENT
DTSTART:20160707T230000Z
DTEND:20160721T030000Z
X-MICROSOFT-CDO-ALLDAYEVENT:FALSE
SUMMARY:Free Make & Take Workshop
DESCRIPTION:Discover the Ease of Aromatherapy using Inhalers!\n\nThere will be 12 blended recipes to choose from that support either your Mind\, Body or Soul!\n\nInhalers are easy to carry in your pocket or purse & use as needed throughout the day!\n\nKids love them too\, so bring your child & let them make one too!
X-ALT-DESC;FMTTYPE=text/html:<div style="text-align: center\;">Discover the Ease of Aromatherapy using Inhalers!<br />\nThere will be 12 blended recipes to choose from that support either your Mind\, Body or Soul!<br />\nInhalers are easy to carry in your pocket or purse &amp\; use as needed throughout the day!<br />\nKids love them too\, so bring your child &amp\; let them make one too!</div>\n<br />\n&nbsp\;
LOCATION:Iddy's Home 806 St Andrews Circle Paso Robles\, Calif
UID:e.2488.4806
SEQUENCE:3
DTSTAMP:20260421T225657Z
URL:https://business.pasorobleschamber.com/events/details/free-make-take-workshop-07-07-2016-4806
END:VEVENT

END:VCALENDAR
