BEGIN:VCALENDAR
VERSION:2.0
PRODID:-//ChamberMaster//Event Calendar 2.0//EN
METHOD:PUBLISH
X-PUBLISHED-TTL:P3D
REFRESH-INTERVAL:P3D
CALSCALE:GREGORIAN
BEGIN:VEVENT
DTSTART:20250724T143000Z
DTEND:20250724T173000Z
X-MICROSOFT-CDO-ALLDAYEVENT:FALSE
SUMMARY:Free Pancake Breakfast
DESCRIPTION:Free Pancake Breakfast sponsored by the California Mid-State Fair and the Downtown Paso Robles Main Street merchants. Thursday\, July 24\, 2025 from 7:30 to 10:30 am in the Downtown City Park.
X-ALT-DESC;FMTTYPE=text/html:Free Pancake Breakfast sponsored by the California Mid-State Fair and the Downtown Paso Robles Main Street merchants. Thursday\, July 24\, 2025 from 7:30 to 10:30 am in the Downtown City Park.
LOCATION:Downtown Paso Robles City Park.
UID:e.2488.17224
SEQUENCE:3
DTSTAMP:20260421T075653Z
URL:https://business.pasorobleschamber.com/events/details/free-pancake-breakfast-17224
END:VEVENT

END:VCALENDAR
