BEGIN:VCALENDAR
VERSION:2.0
PRODID:-//ChamberMaster//Event Calendar 2.0//EN
METHOD:PUBLISH
X-PUBLISHED-TTL:P3D
REFRESH-INTERVAL:P3D
CALSCALE:GREGORIAN
BEGIN:VEVENT
DTSTART:20260314T160000Z
DTEND:20260314T200000Z
X-MICROSOFT-CDO-ALLDAYEVENT:FALSE
SUMMARY:Free Pet Vaccine Clinics
DESCRIPTION:With the support of Petco Love\, Woods Humane Society provides FREE DAPPv Canine and HCP Feline vaccines for cats and dogs throughout the year to our public Spay/Neuter clients as well as to the general public during quarterly free vaccine clinics to ensure pets are #VaccinatedandLoved. Our next Free Vaccine Clinics will be held at both locations on the following dates. Head to our website below to make an appointment for the clinics on 3/14/26.
X-ALT-DESC;FMTTYPE=text/html:With the support of Petco Love\, Woods Humane Society provides FREE DAPPv Canine and HCP Feline vaccines for cats and dogs throughout the year to our public Spay/Neuter clients as well as to the general public during quarterly free vaccine clinics to ensure pets are #VaccinatedandLoved. Our next Free Vaccine Clinics will be held at both locations on the following dates. Head to our website below to make an appointment for the clinics on 3/14/26.
LOCATION:Woods Humane Society- San Luis Obispo 875 Oklahoma Ave\, San Luis Obispo\, CA 93405 Woods Humane Society- North County 2300 Ramona Rd\, Atascadero\, CA 93422
UID:e.2488.20032
SEQUENCE:3
DTSTAMP:20260420T203004Z
URL:https://business.pasorobleschamber.com/events/details/free-pet-vaccine-clinics-20032
END:VEVENT

END:VCALENDAR
