BEGIN:VCALENDAR
VERSION:2.0
PRODID:-//ChamberMaster//Event Calendar 2.0//EN
METHOD:PUBLISH
X-PUBLISHED-TTL:P3D
REFRESH-INTERVAL:P3D
CALSCALE:GREGORIAN
BEGIN:VEVENT
DTSTART:20180920T010000Z
DTEND:20180920T020000Z
X-MICROSOFT-CDO-ALLDAYEVENT:FALSE
SUMMARY:Free Seminar: Home Buying
DESCRIPTION:Buying a Home is a Huge Decision\n\nWhether you're in the "hoping\," "planning\," or "ready to buy" stage of your home buying experience\, it's important that you have the right information so you can make informed decisions. We'll discuss:\n\nPreparation: How to maximize your credit rating\, estimate the wallet impact and improve your buying power.\n\n\n\nApplication: How to navigate the contract deadlines\, the loan application process and the market conditions.\n\n\n\nSelection: How to choose the community\, the neighborhood\, and the home that fits you best.\n\n\n\nOur presenter will be Barbara Hugie\, SESLOC's Vice President of Residential Mortgage Lending. Barbara has over 30 years of experience in the real estate lending field and has served SESLOC members for more than 12 years. \n\n \n\n\n \n\nDoors open at 5:30 pm and the seminar begins promptly at 6:00 pm. \n\nWe look forward to seeing you! \n\n\n\n\nFAQs\n\nDo I have to bring my printed ticket to the event? Your ticket speeds the check-in process\, but your name will be on our registration list and your space will still be reserved.\n\nWhat if I discover I can't attend? If you find you cannot attend\, please go to EventBrite and cancel your registration. Events can fill up and someone else will appreciate the opportunity to take your space.You may also email info@sesloc.org or call us at 805-543-1816 to cancel.\n\nIs this a sales presentation? No\, this is strictly educational. SESLOC offers financial education seminars as a service to our members and the local community. We believe knowledge is the foundation for informed financial choices.\n\nWhat time do the doors open? Our doors open at 5:30 and light refreshments are served.
X-ALT-DESC;FMTTYPE=text/html:<p><strong>Buying a Home is a Huge Decision</strong></p>\n\n<p>Whether you&#39\;re in the &quot\;hoping\,&quot\; &quot\;planning\,&quot\; or &quot\;ready to buy&quot\; stage of your home buying experience\, it&#39\;s important that you have the right information so you can&nbsp\;<strong>make informed decisions</strong>. We&rsquo\;ll discuss:</p>\n\n<p><strong>Preparation</strong>: How to maximize your credit rating\, estimate the wallet impact and improve your buying power.<br />\n<br />\n<strong>Application</strong>: How to navigate the contract deadlines\, the loan application process and the market conditions.<br />\n<br />\n<strong>Selection</strong>: How to choose the community\, the neighborhood\, and the home that fits you best.</p>\n\n<p><br />\nOur presenter will be Barbara Hugie\, SESLOC&#39\;s Vice President of&nbsp\;<a href="https://www.sesloc.org/loans/real-estate-loans" rel="noopener noreferrer nofollow" style="color: rgb(0\, 127\, 140)\; text-decoration-line: none\; background-color: transparent\;" target="_blank">Residential Mortgage Lending</a>. Barbara has over 30 years of experience in the real estate lending field and has served SESLOC members for more than 12 years.&nbsp\;</p>\n\n<p>&nbsp\;</p>\n\n<hr />\n<p>&nbsp\;</p>\n\n<p><strong>Doors open at 5:30 pm and the seminar begins promptly at 6:00 pm.&nbsp\;</strong><br />\n<strong><em>We look forward to seeing you!</em></strong><em><strong>&nbsp\;</strong></em></p>\n\n<hr />\n<p><br />\n<strong>FAQs</strong></p>\n\n<p><strong>Do I have to bring my printed ticket to the event?&nbsp\;</strong>Your ticket speeds the check-in process\, but your name will be on our registration list and your space will still be reserved.</p>\n\n<p><strong>What if I discover I can&#39\;t attend?&nbsp\;</strong>If you find you cannot attend\, please go to EventBrite and cancel your registration. Events can fill up and someone else will appreciate the opportunity to take your space.You may also email&nbsp\;<a href="mailto:info@sesloc.org" rel="noopener noreferrer nofollow" style="color: rgb(0\, 127\, 140)\; text-decoration-line: none\; background-color: transparent\;" target="_blank">info@sesloc.org</a>&nbsp\;or call us at 805-543-1816 to cancel.</p>\n\n<p><strong>Is this a sales presentation?</strong>&nbsp\;No\, this is strictly educational. SESLOC offers financial education seminars as a service to our members and the local community. We believe knowledge is the foundation for informed financial choices.</p>\n\n<p><strong>What time do the doors open?&nbsp\;</strong>Our doors open at 5:30 and light refreshments are served.</p>\n
LOCATION:SESLOC Federal Credit Union 705 Golden Hill Rd Paso Robles\, CA 93446
UID:e.2488.9550
SEQUENCE:3
DTSTAMP:20260421T133020Z
URL:https://business.pasorobleschamber.com/events/details/free-seminar-home-buying-9550
END:VEVENT

END:VCALENDAR
