BEGIN:VCALENDAR
VERSION:2.0
PRODID:-//ChamberMaster//Event Calendar 2.0//EN
METHOD:PUBLISH
X-PUBLISHED-TTL:P3D
REFRESH-INTERVAL:P3D
CALSCALE:GREGORIAN
BEGIN:VEVENT
DTSTART:20170608T160000Z
DTEND:20170608T170000Z
X-MICROSOFT-CDO-ALLDAYEVENT:FALSE
SUMMARY:FREE Webinar: How to Train Your Facebook
DESCRIPTION:This free training is offered as a webinar or in-person workshop for small businesses.\n\nGain insight into what Facebook forgot to mention to you. Understand exactly why your business page posts are receiving such a poor reach and nobody is liking\, commenting or sharing your posts.\n\nPlus\, learn marketing secrets behind how to use your Facebook business page to actually drive sales.\n\n\n\nRegister here: http://eburgeon.com/marketing-education/\n\nCan't make the live dates? \n\n\n\nSign up for any webinar date and you will receive a link to the replay 4 hours after the live webinar date and time.
X-ALT-DESC;FMTTYPE=text/html:<p><span style="font-size:16px"><strong>This free training is offered as a webinar or in-person workshop for small businesses.</strong></span></p>\n\n<p><span style="font-size:16px">Gain insight into what Facebook forgot to mention to you. Understand exactly why your business page posts are receiving such a poor reach and nobody is liking\, commenting or sharing your posts.</span></p>\n\n<p><span style="font-size:16px">Plus\, learn marketing secrets behind how to use your Facebook business page to actually drive sales.<br />\n<br />\nRegister here:&nbsp\;</span><a href="http://eburgeon.com/marketing-education/" style="font-size: 16px\;" target="_blank">http://eburgeon.com/marketing-education/</a></p>\n\n<p><span style="font-size:16px"><strong>Can&rsquo\;t make the live dates?&nbsp\;</strong><br />\n<br />\nSign up for any webinar date and you will receive a link to the replay 4 hours after the live webinar date and time.</span></p>\n
LOCATION:Online: http://eburgeon.com/marketing-education/ eBURGEON - Marketing for Small Business 1111 Riverside Ave\, Ste 401 Paso Robles\, CA
UID:e.2488.6425
SEQUENCE:3
DTSTAMP:20260423T170824Z
URL:https://business.pasorobleschamber.com/events/details/free-webinar-how-to-train-your-facebook-06-08-2017-6425
END:VEVENT

END:VCALENDAR
