BEGIN:VCALENDAR
VERSION:2.0
PRODID:-//ChamberMaster//Event Calendar 2.0//EN
METHOD:PUBLISH
X-PUBLISHED-TTL:P3D
REFRESH-INTERVAL:P3D
CALSCALE:GREGORIAN
BEGIN:VEVENT
DTSTART:20181020T000000Z
DTEND:20181020T030000Z
X-MICROSOFT-CDO-ALLDAYEVENT:FALSE
SUMMARY:Friday Night Concert - Ricky Montijo
DESCRIPTION:Join us Friday Night to kick-off Harvest Festival Weekend with Ricky Montijo. An exceptional guitarist and eclectic singer-songwriter\, Ricky performs original music in the genres of Soul\, Rock\, Latin\, Blues\, Pop\, and R&B. Originally from Frazier Park\, California\, Ricky crosses all genres which makes him the artist to watch! Enjoy his music on the patio with our award winning Robert Hall wines and a BBQ dinner from Old San Luis BBQ.
X-ALT-DESC;FMTTYPE=text/html:Join us Friday Night to kick-off Harvest Festival Weekend with Ricky Montijo. An exceptional guitarist and eclectic singer-songwriter\, Ricky performs original music in the genres of Soul\, Rock\, Latin\, Blues\, Pop\, and R&amp\;B. Originally from Frazier Park\, California\, Ricky crosses all genres which makes him the artist to watch! Enjoy his music on the patio with our award winning Robert Hall wines and a BBQ dinner from Old San Luis BBQ.
LOCATION:Robert Hall Winery 3443 Mill Road Paso Robles\, CA 93446
UID:e.2488.9542
SEQUENCE:3
DTSTAMP:20260421T092043Z
URL:https://business.pasorobleschamber.com/events/details/friday-night-concert-ricky-montijo-9542
END:VEVENT

END:VCALENDAR
