BEGIN:VCALENDAR
VERSION:2.0
PRODID:-//ChamberMaster//Event Calendar 2.0//EN
METHOD:PUBLISH
X-PUBLISHED-TTL:P3D
REFRESH-INTERVAL:P3D
CALSCALE:GREGORIAN
BEGIN:VEVENT
DTSTART;VALUE=DATE:20160819
DTEND;VALUE=DATE:20160820
TRANSP:TRANSPARENT
X-MICROSOFT-CDO-ALLDAYEVENT:TRUE
SUMMARY:Friday Night Music Series
DESCRIPTION:Derby Wine Estates Presents\n\nFriday Night Music Series\n\n5:30 - 9:00PM\n\nLooking for an amazing Friday happy hour? Stop by our Downtown Paso Robles winery to kick back and enjoy live local music\, along with a full selection of our estate wines every Friday night this summer. Each week we feature a $5 white and $7 red by the glass option\, in addition to our extensive list of wines by the bottle. \n\nOur shaded patio is the perfect spot to relax after the long work week. Make it a dinner date and indulge in classic American BBQ served up straight from our smoker! Our very own Derby Smokehouse provides an authentic regional style BBQ each Friday night. Throughout the summer we will feature BBQ styles from the Carolinas\, Memphis\, Kansas City\, St. Louis\, Texas as well as our very own Santa Maria Style! No cover charge for the event. BBQ plates are available between $10-$12 per person.\n\nFor more info go to: www.derbywineestates.com\n\nor call (805)238-6300
X-ALT-DESC;FMTTYPE=text/html:<span style="font-size:19.5pt"><span style="font-family:arial\,sans-serif"><span style="color:rgb(0\, 16\, 103)">Derby Wine Estates Presents</span></span></span><br />\n<span style="font-size:19.5pt"><span style="font-family:arial\,sans-serif"><span style="color:rgb(0\, 16\, 103)">Friday Night Music Series</span></span></span><br />\n<span style="font-size:13.5pt"><span style="font-family:arial\,sans-serif"><span style="color:rgb(85\, 85\, 72)">5:30 - 9:00PM</span></span></span><br />\n<span style="font-size:10.5pt"><span style="font-family:georgia\,serif"><span style="color:rgb(85\, 85\, 72)">Looking for an amazing Friday happy hour? Stop by our Downtown Paso Robles winery to kick back and enjoy live local music\, along with a full selection of our estate wines every Friday night this summer. Each week we feature a $5 white and $7 red by the glass option\, in addition to our extensive list of wines by the bottle.&nbsp\;</span></span></span><br />\n<span style="font-size:10.5pt"><span style="font-family:georgia\,serif"><span style="color:rgb(85\, 85\, 72)">Our shaded patio is the perfect spot to relax after the long work week. Make it a dinner date and indulge in classic American BBQ served up straight from our smoker! Our very own Derby Smokehouse provides an authentic regional style BBQ each Friday night. Throughout the summer we will feature BBQ styles from the Carolinas\, Memphis\, Kansas City\, St. Louis\, Texas as well as our very own Santa Maria Style! No cover charge for the event. BBQ plates are available between $10-$12 per person.</span></span></span><br />\n<span style="font-size:10.5pt"><span style="font-family:georgia\,serif"><span style="color:rgb(85\, 85\, 72)">For more info go to: <a href="http://www.derbywineestates.com/" target="_blank"><span style="color:rgb(193\, 84\, 18)">www.derbywineestates.com</span></a></span></span></span><br />\n<span style="font-size:10.5pt"><span style="font-family:georgia\,serif"><span style="color:rgb(85\, 85\, 72)">or call (805)238-6300</span></span></span><br />\n&nbsp\;
LOCATION:Derby Wine Estates 525 Riverside Ave Paso Robles CA 93446
UID:e.2488.4797
SEQUENCE:3
DTSTAMP:20260424T102547Z
URL:https://business.pasorobleschamber.com/events/details/friday-night-music-series-08-19-2016-4797
END:VEVENT

END:VCALENDAR
