BEGIN:VCALENDAR
VERSION:2.0
PRODID:-//ChamberMaster//Event Calendar 2.0//EN
METHOD:PUBLISH
X-PUBLISHED-TTL:P3D
REFRESH-INTERVAL:P3D
CALSCALE:GREGORIAN
BEGIN:VEVENT
DTSTART:20181208T003000Z
DTEND:20181208T010000Z
X-MICROSOFT-CDO-ALLDAYEVENT:FALSE
SUMMARY:Funky Wonderland Vintage Ribbon Cutting Ceremony with Paso Robles Chamber of Commerce
DESCRIPTION:Come celebrate Paso Roble's newest vintage boutique!\n\nJoin Funky Wonderland Vintage and the Paso Robles Chamber of Commerce on Friday\, December 7th\, for the official Ribbon Cutting Ceremony.\n\nEnjoy displays featuring vintage attire\, accessories\, art and showcased Hollywood memorabilia.  \n\nThere will be complimentary champagne from 4:30 - 5:00pm.
X-ALT-DESC;FMTTYPE=text/html:<div style="text-align:center"><span style="color:#008080"><span style="font-family:times new roman"><span style="font-size:18px">Come celebrate Paso Roble&#39\;s newest vintage boutique!<br />\nJoin <strong>Funky Wonderland Vintage</strong> and the Paso Robles Chamber of Commerce on Friday\, December 7th\, for the official <em>Ribbon Cutting Ceremony</em>.<br />\nEnjoy displays featuring vintage attire\, accessories\, art and showcased Hollywood memorabilia. &nbsp\;<br />\nThere will be complimentary champagne from 4:30 - 5:00pm.</span></span></span></div>\n
LOCATION:829 10th Street Suite 102 Paso Robles\, CA 93446
UID:e.2488.9605
SEQUENCE:3
DTSTAMP:20260421T063800Z
URL:https://business.pasorobleschamber.com/events/details/funky-wonderland-vintage-ribbon-cutting-ceremony-9605
END:VEVENT

END:VCALENDAR
