BEGIN:VCALENDAR
VERSION:2.0
PRODID:-//ChamberMaster//Event Calendar 2.0//EN
METHOD:PUBLISH
X-PUBLISHED-TTL:P3D
REFRESH-INTERVAL:P3D
CALSCALE:GREGORIAN
BEGIN:VEVENT
DTSTART;VALUE=DATE:20181026
DTEND;VALUE=DATE:20181028
TRANSP:TRANSPARENT
X-MICROSOFT-CDO-ALLDAYEVENT:TRUE
SUMMARY:Grand Opening @Lusso Della Terra!!
DESCRIPTION:Join Us For Our Official Grand Opening Party For Lusso Della Terra!!! We Will Be Offering: 2 for 1 Wine Tastings Live Music Vineyard Tours Small Bites Barrel Tastings Zoo To You Animals 20% Off All Wine Purchases
X-ALT-DESC;FMTTYPE=text/html:Join Us For Our Official Grand Opening Party For Lusso Della Terra!!! We Will Be Offering: 2 for 1 Wine Tastings Live Music Vineyard Tours Small Bites Barrel Tastings Zoo To You Animals 20% Off All Wine Purchases
LOCATION:2850 Ranchita Canyon Road
UID:e.2488.9585
SEQUENCE:3
DTSTAMP:20260421T210536Z
URL:https://business.pasorobleschamber.com/events/details/grand-opening-lusso-della-terra-9585
END:VEVENT

END:VCALENDAR
