BEGIN:VCALENDAR
VERSION:2.0
PRODID:-//ChamberMaster//Event Calendar 2.0//EN
METHOD:PUBLISH
X-PUBLISHED-TTL:P3D
REFRESH-INTERVAL:P3D
CALSCALE:GREGORIAN
BEGIN:VEVENT
DTSTART:20260516T170000Z
DTEND:20260907T190000Z
X-MICROSOFT-CDO-ALLDAYEVENT:FALSE
SUMMARY:Guided Farm Experience | Field to Bottle
DESCRIPTION:Saturdays & Sundays | 10:00 AM | San Miguel\, CA Open to visitors May 10   September 7\, 2026 Step into lavender season with a relaxed\, one-hour walk through the fields\, led by farmer Milton Hambly. Learn how lavender is grown\, harvested\, and distilled\, meet the animals\, and harvest your own bouquet along the way. Includes: One-hour guided walk with the farmer Insight into lavender varieties and growing practices Hand-harvested lavender bouquet Time in the fields and picnic areas $30 per person Reservations required\; space is limited
X-ALT-DESC;FMTTYPE=text/html:Saturdays &amp\; Sundays | 10:00 AM | San Miguel\, CA Open to visitors May 10 &ndash\; September 7\, 2026 Step into lavender season with a relaxed\, one-hour walk through the fields\, led by farmer Milton Hambly. Learn how lavender is grown\, harvested\, and distilled\, meet the animals\, and harvest your own bouquet along the way. Includes: One-hour guided walk with the farmer Insight into lavender varieties and growing practices Hand-harvested lavender bouquet Time in the fields and picnic areas $30 per person Reservations required\; space is limited
LOCATION:Hambly Lavender Farm 1390 Grana Place San Miguel\, CA 93451
UID:e.2488.20098
SEQUENCE:3
DTSTAMP:20260421T002541Z
URL:https://business.pasorobleschamber.com/events/details/guided-farm-experience-field-to-bottle-20098
END:VEVENT

END:VCALENDAR
