BEGIN:VCALENDAR
VERSION:2.0
PRODID:-//ChamberMaster//Event Calendar 2.0//EN
METHOD:PUBLISH
X-PUBLISHED-TTL:P3D
REFRESH-INTERVAL:P3D
CALSCALE:GREGORIAN
BEGIN:VEVENT
DTSTART:20181019T180000Z
DTEND:20181022T000000Z
X-MICROSOFT-CDO-ALLDAYEVENT:FALSE
SUMMARY:Harvest Festival
DESCRIPTION:Come on over and help us celebrate the end of another harvest. We're ready to toast a glass and listen to music by Flashpoint and we want you to join us.\n\nLive music Saturday & Sunday 1-4 pm.\n\nWinery tours daily offered at 11am and 1pm.\n\nTake advantage of our weekend case specials.\n\nWe will also have complimentary appetizers available throughout the weekend.
X-ALT-DESC;FMTTYPE=text/html:<h2 style="text-align: center\;"><span style="font-family:times new roman">Come on over and help us celebrate the end of another harvest. We&#39\;re ready to toast a glass and listen to music by Flashpoint and we want you to join us.<br />\nLive music Saturday &amp\; Sunday 1-4 pm.<br />\nWinery tours daily offered at 11am and 1pm.<br />\nTake advantage of our weekend case specials.<br />\nWe will also have complimentary appetizers available throughout the weekend.&nbsp\;</span></h2>\n
LOCATION:Pear Valley Vineyards 4900 Union Rd Paso Robles\, CA 93446
UID:e.2488.7101
SEQUENCE:3
DTSTAMP:20260421T132958Z
URL:https://business.pasorobleschamber.com/events/details/harvest-festival-7101
END:VEVENT

END:VCALENDAR
