BEGIN:VCALENDAR
VERSION:2.0
PRODID:-//ChamberMaster//Event Calendar 2.0//EN
METHOD:PUBLISH
X-PUBLISHED-TTL:P3D
REFRESH-INTERVAL:P3D
CALSCALE:GREGORIAN
BEGIN:VEVENT
DTSTART:20181021T200000Z
DTEND:20181021T220000Z
X-MICROSOFT-CDO-ALLDAYEVENT:FALSE
SUMMARY:Harvest Festival Cooking Demonstration
DESCRIPTION:Join us in our Barrel Room on Sunday from 1-3pm with our fun and informative cooking demonstration\, hosted by Chef Walter! Learn the tricks and tips of preparing some of his favorite foods before you try it yourself at home. Ask him questions and learn about how his unique methods have made him an award-winning Chef. Sample and savor each dish while enjoying a glass of hand-selected Le Vigne wines to pair with the meal. Tickets are $35 per person\, or $25 for La Famiglia members\, complimentary for La Tavola members\, and include entry to Sunday's Open Cellar.
X-ALT-DESC;FMTTYPE=text/html:Join us in our Barrel Room on Sunday from 1-3pm with our fun and informative cooking demonstration\, hosted by Chef Walter! Learn the tricks and tips of preparing some of his favorite foods before you try it yourself at home. Ask him questions and learn about how his unique methods have made him an award-winning Chef. Sample and savor each dish while enjoying a glass of hand-selected Le Vigne wines to pair with the meal. Tickets are $35 per person\, or $25 for La Famiglia members\, complimentary for La Tavola members\, and include entry to Sunday&rsquo\;s Open Cellar.
LOCATION:Le Vigne Winery 5115 Buena Vista Drive Paso Robles\, CA 93446
UID:e.2488.9555
SEQUENCE:3
DTSTAMP:20260421T085453Z
URL:https://business.pasorobleschamber.com/events/details/harvest-festival-cooking-demonstration-9555
END:VEVENT

END:VCALENDAR
