BEGIN:VCALENDAR
VERSION:2.0
PRODID:-//ChamberMaster//Event Calendar 2.0//EN
METHOD:PUBLISH
X-PUBLISHED-TTL:P3D
REFRESH-INTERVAL:P3D
CALSCALE:GREGORIAN
BEGIN:VEVENT
DTSTART:20181020T183000Z
DTEND:20181020T220000Z
X-MICROSOFT-CDO-ALLDAYEVENT:FALSE
SUMMARY:Harvest Festival Vineyard Tours
DESCRIPTION:On Saturday of Harvest Festival Weekend\, explore our Domenico Estate Vineyard on a guided tour and learn about the winemaking process from vine to wine. See where the very grapes that gift our most special wines are planted\, and learn how the soil and climate in which they stand influence the flavors of your favorite Le Vigne vintages. Enjoy an exclusive tasting at our Winemaker's favorite blocks\, and get a sneak peek at what will be the 2018 vintage in just a few short years. Two tours will be offered\; the first tour will begin promptly at 11:30pm\, and the second tour will begin at 1:30pm. Tickets are $25 per person\, or $20 for La Famiglia members. Due to the nature of this outdoor event\, we strongly recommend wearing comfortable shoes suitable for walking on uneven terrain\, and preparing for sunny conditions by bringing sunscreen\, a hat\, and plenty of water. If you are interested in attending\, please reserve your space early as seating is limited!
X-ALT-DESC;FMTTYPE=text/html:On Saturday of Harvest Festival Weekend\, explore our Domenico Estate Vineyard on a guided tour and learn about the winemaking process from vine to wine. See where the very grapes that gift our most special wines are planted\, and learn how the soil and climate in which they stand influence the flavors of your favorite Le Vigne vintages. Enjoy an exclusive tasting at our Winemaker&rsquo\;s favorite blocks\, and get a sneak peek at what will be the 2018 vintage in just a few short years. <strong>Two tours will be offered\; the first tour will begin promptly at 11:30pm\, and the second tour will begin at 1:30pm.</strong> Tickets are $25 per person\, or $20 for La Famiglia members. Due to the nature of this outdoor event\, we strongly recommend wearing comfortable shoes suitable for walking on uneven terrain\, and preparing for sunny conditions by bringing sunscreen\, a hat\, and plenty of water. If you are interested in attending\, please reserve your space early as seating is limited!
LOCATION:Le Vigne Winery 5115 Buena Vista Drive Paso Robles\, CA 93446
UID:e.2488.9554
SEQUENCE:3
DTSTAMP:20260421T085522Z
URL:https://business.pasorobleschamber.com/events/details/harvest-festival-vineyard-tours-9554
END:VEVENT

END:VCALENDAR
