BEGIN:VCALENDAR
VERSION:2.0
PRODID:-//ChamberMaster//Event Calendar 2.0//EN
METHOD:PUBLISH
X-PUBLISHED-TTL:P3D
REFRESH-INTERVAL:P3D
CALSCALE:GREGORIAN
BEGIN:VEVENT
DTSTART:20161014T170000Z
DTEND:20161017T000000Z
X-MICROSOFT-CDO-ALLDAYEVENT:FALSE
SUMMARY:Harvest Festival Weekend
DESCRIPTION:We invite you to sip\, savor\, and delight in our small lot wines paired with artisan cheeses. Relax on our patio overlooking the rolling hills or take a self-guided vineyard tour while enjoying hand-passed appetizers and new fall releases. Saturday and Sunday\, "Let's Toast Sparkling Wine" from around the world\, 10:30-11:30 am\, a fun tasting seminar featuring a review of Cava\, Prosecco\, Moscato\, Champagne\, and California Sparkling Wines\, $10/Club\, $20/public (reservations required.) Be sure to challenge your friends to a game of giant Jenga or Cornhole! $10pp\; $5 children and DD. Fee waived with two bottle purchase per person. (No shared tastings on event weekends.) "Life is an Adventure\, Drink Wine!" \n\nPlease visit Mitchella Events for more information.
X-ALT-DESC;FMTTYPE=text/html:We invite you to sip\, savor\, and delight in our small lot wines paired with artisan cheeses. Relax on our patio overlooking the rolling hills or take a self-guided vineyard tour while enjoying hand-passed appetizers and new fall releases. Saturday and&nbsp\;Sunday\, &ldquo\;Let&rsquo\;s Toast Sparkling Wine&rdquo\; from around the world\,&nbsp\;10:30-11:30 am\, a fun tasting seminar featuring a review of Cava\, Prosecco\, Moscato\, Champagne\, and California Sparkling Wines\, $10/Club\, $20/public (reservations required.) Be sure to challenge your friends to a game of giant Jenga or Cornhole! $10pp\; $5 children and DD. Fee waived with two bottle purchase per person. (No shared tastings on event weekends.) &quot\;Life is an Adventure\, Drink Wine!&quot\;&trade\;<br />\nPlease visit <a href="http://www.mitchella.com/events/">Mitchella Events</a> for more information.
LOCATION:Mitchella Vineyard & Winery 2525 Mitchell Ranch Way Paso Robles\, CA 93446
UID:e.2488.4807
SEQUENCE:3
DTSTAMP:20260424T063413Z
URL:https://business.pasorobleschamber.com/events/details/harvest-festival-weekend-10-14-2016-4807
END:VEVENT

END:VCALENDAR
